BEGIN:VCALENDAR
VERSION:2.0
PRODID:-//wp-events-plugin.com//6.4.7.3//EN
TZID:Europe/Vienna
X-WR-TIMEZONE:Europe/Vienna
BEGIN:VEVENT
UID:2623@teamcalendar.eu
DTSTART;TZID=Europe/Vienna:20250707T190000
DTEND;TZID=Europe/Vienna:20250707T203000
DTSTAMP:20250617T155803Z
URL:https://teamcalendar.eu/events/health-event-wir-alle-brauchen-omega-3/
SUMMARY:Freiburg im Breisgau\, Health Event - Wir alle brauchen Omega 3
DESCRIPTION:Erfahre bei diesem Vortrag\, warum Omega-3 so essenziell für d
 eine Gesundheit ist – für dein Herz\, dein Gehirn\, deine Stimmung\, de
 ine Zellen und dein allgemeines Wohlbefinden.\nEs ist ein lebenswichtiger 
 Nährstoff\, den wir über unsere tägliche Ernährung kaum in ausreichend
 er Menge aufnehmen.\nEntdecke\, wie einfach – und lecker – es sein kan
 n\, deinen Körper täglich mit dem zu versorgen\, was er wirklich braucht
 . \nIm Anschluss kann jeder unsere hochwertigen Öle verkosten.\nDer Vortr
 ag ist kostenfrei.\, https://teamcalendar.eu/events/health-event-wir-alle-
 brauchen-omega-3/ical/
CATEGORIES:Health Event
LOCATION:Central Hotel\, Wasserstraße 6\, Freiburg im Breisgau\, 79098\, D
 eutschland
GEO:47.997734;7.850939
X-APPLE-STRUCTURED-LOCATION;VALUE=URI;X-ADDRESS=Wasserstraße 6\, Freiburg 
 im Breisgau\, 79098\, Deutschland;X-APPLE-RADIUS=100;X-TITLE=Central Hotel
 :geo:47.997734,7.850939
END:VEVENT
BEGIN:VTIMEZONE
TZID:Europe/Vienna
X-LIC-LOCATION:Europe/Vienna
BEGIN:DAYLIGHT
DTSTART:20250330T030000
TZOFFSETFROM:+0100
TZOFFSETTO:+0200
TZNAME:CEST
END:DAYLIGHT
END:VTIMEZONE
END:VCALENDAR