BEGIN:VCALENDAR
VERSION:2.0
PRODID:-//wp-events-plugin.com//6.4.7.3//EN
TZID:Europe/Vienna
X-WR-TIMEZONE:Europe/Vienna
BEGIN:VEVENT
UID:2028@teamcalendar.eu
DTSTART;TZID=Europe/Vienna:20250404T140000
DTEND;TZID=Europe/Vienna:20250405T170000
DTSTAMP:20250131T090945Z
URL:https://teamcalendar.eu/events/gp-workshop-april-2025/
SUMMARY:Wals\, GP+ Workshop 4. - 5. April 2025
DESCRIPTION:Auch 2025 findet wieder der GP+ Workshop statt. Dieses Jahr NEU
  im Hotel Königgut bei Wals in Salzburg. \n\nDu wirst wieder wertvolle Ei
 nblicke gewinnen\, neue Fähigkeiten erlernen und die Möglichkeit haben\,
  dich mit Gleichgesinnten auszutauschen.\n\nWann: Freitag\, 4.4  von 14:00
  bis Samstag 5.4. 17:00 Uhr\nWo: Hotel Königgut in Wals bei Salzburg\n\nB
 itte buche dein Ticket direkt über Eventjet. Den Link zu Eventjet findest
  du in unserer GP+ Telegram Gruppe\n\nIm Ticket inkludiert sind:\n	Seminar
 pauschale für Freitag und Samstag\n	das Abendessen am Freitag\n	das Mitta
 gessen am Samstag \nGetränke zu den Essen werden auf Selbstzahlerbasis ab
 gerechnet.\n\nWir haben im Hotel Königgut ein Zimmerkontingent für unser
 e Gruppe reserviert. Für die Buchung bitte das Buchungsformular aus der G
 P+ Telegram Gruppe verwenden. Eine Übernachtung im Hotel ist nicht verpfl
 ichtend\, aber wie ihr wisst\, sehr praktisch und gesellig. \n\nDieses Tra
 ining ist gezielt für BP ab GP+ konzipiert. Es gibt eine limitierte Teiln
 ehmerzahl. First come\, first served. \n\, https://teamcalendar.eu/events/
 gp-workshop-april-2025/ical/
ATTACH;FMTTYPE=image/jpeg:https://teamcalendar.eu/wp-content/uploads/2024/
 05/photo_2025-01-29-14.51.57-1.jpeg
CATEGORIES:Sonstige
LOCATION:Hotel Königgut\, Oberfeldstraße 1\, Wals\, 5071\, Äquatorialgui
 nea
GEO:47.788143;12.96287
X-APPLE-STRUCTURED-LOCATION;VALUE=URI;X-ADDRESS=Oberfeldstraße 1\, Wals\, 
 5071\, Äquatorialguinea;X-APPLE-RADIUS=100;X-TITLE=Hotel Königgut:geo:47
 .788143,12.96287
END:VEVENT
BEGIN:VTIMEZONE
TZID:Europe/Vienna
X-LIC-LOCATION:Europe/Vienna
BEGIN:DAYLIGHT
DTSTART:20250330T030000
TZOFFSETFROM:+0100
TZOFFSETTO:+0200
TZNAME:CEST
END:DAYLIGHT
END:VTIMEZONE
END:VCALENDAR