BEGIN:VCALENDAR
VERSION:2.0
PRODID:-//wp-events-plugin.com//6.4.7.3//EN
TZID:Europe/Vienna
X-WR-TIMEZONE:Europe/Vienna
BEGIN:VEVENT
UID:2402@teamcalendar.eu
DTSTART;TZID=Europe/Vienna:20250328T190000
DTEND;TZID=Europe/Vienna:20250328T203000
DTSTAMP:20250310T072819Z
URL:https://teamcalendar.eu/events/gesunde-zellen-ein-leben-lang/
SUMMARY:Wien\, Gesunde Zellen - ein Leben lang!
DESCRIPTION:Aktivieren Sie Ihre Zellreinigung durch Autophagiefasten und an
 ti-entzündliche Ernährung für einen natürlichen Anti-Aging-Effekt und 
 ein langes gesundes Leben.\nWelche wichtige Rolle dabei Omega-3-Fettsäure
 n einnehmen und wie eine Zellreinigung im Alltag funktionieren kann\, erfa
 hren Sie im Vortrag von Mag. Tabitha Gütler\, Fasten- und Gesundheitstrai
 nerin\, Schwerpunkt Säure-Basen-Haushalt.\, https://teamcalendar.eu/event
 s/gesunde-zellen-ein-leben-lang/ical/
CATEGORIES:Produktvortrag
LOCATION:VHS Liesing\, Liesinger Platz 3\, Wien\, Wien\, 1230\, Österreich
GEO:48.134564;16.282772
X-APPLE-STRUCTURED-LOCATION;VALUE=URI;X-ADDRESS=Liesinger Platz 3\, Wien\, 
 Wien\, 1230\, Österreich;X-APPLE-RADIUS=100;X-TITLE=VHS Liesing:geo:48.13
 4564,16.282772
END:VEVENT
BEGIN:VTIMEZONE
TZID:Europe/Vienna
X-LIC-LOCATION:Europe/Vienna
BEGIN:STANDARD
DTSTART:20241027T020000
TZOFFSETFROM:+0200
TZOFFSETTO:+0100
TZNAME:CET
END:STANDARD
END:VTIMEZONE
END:VCALENDAR