BEGIN:VCALENDAR
VERSION:2.0
PRODID:-//wp-events-plugin.com//6.4.7.3//EN
TZID:Europe/Vienna
X-WR-TIMEZONE:Europe/Vienna
BEGIN:VEVENT
UID:2556@teamcalendar.eu
DTSTART;TZID=Europe/Vienna:20250605T190000
DTEND;TZID=Europe/Vienna:20250605T200000
DTSTAMP:20250524T063015Z
URL:https://teamcalendar.eu/events/gesund-erfuellt-frauenleben-im-gleichge
 wicht/
SUMMARY:Frohnleiten\, Gesund und Erfüllt\, Frauenleben im Gleichgewicht
DESCRIPTION:Zellgesundheit und Prävention\nErfahren Sie\, wie eine starke 
 Zellgesundheit und präventive Maßnahmen Ihr Wohlbefinden steigern und de
 n natürlichen Alterungsprozess positiv beeinflussen. Entdecken Sie Strate
 gien für ein gesundes und erfülltes Leben in jeder Lebensphase.\n\, http
 s://teamcalendar.eu/events/gesund-erfuellt-frauenleben-im-gleichgewicht/ic
 al/
CATEGORIES:Health Event
LOCATION:Volkshaus Frohnleiten\, Josef Ortisstraße 9\, Frohnleiten\, Steie
 rmark\, 8130\, Österreich
GEO:47.269255;15.326693
X-APPLE-STRUCTURED-LOCATION;VALUE=URI;X-ADDRESS=Josef Ortisstraße 9\, Froh
 nleiten\, Steiermark\, 8130\, Österreich;X-APPLE-RADIUS=100;X-TITLE=Volks
 haus Frohnleiten:geo:47.269255,15.326693
END:VEVENT
BEGIN:VTIMEZONE
TZID:Europe/Vienna
X-LIC-LOCATION:Europe/Vienna
BEGIN:DAYLIGHT
DTSTART:20250330T030000
TZOFFSETFROM:+0100
TZOFFSETTO:+0200
TZNAME:CEST
END:DAYLIGHT
END:VTIMEZONE
END:VCALENDAR