BEGIN:VCALENDAR
VERSION:2.0
PRODID:-//wp-events-plugin.com//6.4.7.3//EN
TZID:Europe/Vienna
X-WR-TIMEZONE:Europe/Vienna
BEGIN:VEVENT
UID:2597@teamcalendar.eu
DTSTART;TZID=Europe/Vienna:20250702T190000
DTEND;TZID=Europe/Vienna:20250702T210000
DTSTAMP:20250602T201430Z
URL:https://teamcalendar.eu/events/german-tour-stuttgart/
SUMMARY:Leinfelden - Echterdingen\, German Tour - Stuttgart
DESCRIPTION:Business Opportunity Meeting - Stuttgart\nEntdecken Sie das Pot
 enzial von Network Marketing und erfahren Sie mehr über die Chancen einer
  Zusammenarbeit mit der Firma Eqology\, dem Experten für hochwertige Omeg
 a-3-Fettsäure Produkte aus dem arktischen Meer.\n\nBitte beachten: \nEine
  Englisch-Deutsch-Übersetzung wird zur Verfügung gestellt. Bitte halten 
 Sie Ihre Kopfhörer bereit und stellen Sie sicher\, dass die Zoom-App auf 
 Ihrem Smartphone installiert ist. \, https://teamcalendar.eu/events/german
 -tour-stuttgart/ical/
CATEGORIES:Geschäftspräsentation
LOCATION:Stadtmarketing und FILDERHALLE\, Bahnhofstr. 61\, Leinfelden - Ech
 terdingen\, 70771\, Deutschland
GEO:48.699875;9.140634
X-APPLE-STRUCTURED-LOCATION;VALUE=URI;X-ADDRESS=Bahnhofstr. 61\, Leinfelden
  - Echterdingen\, 70771\, Deutschland;X-APPLE-RADIUS=100;X-TITLE=Stadtmark
 eting und FILDERHALLE:geo:48.699875,9.140634
END:VEVENT
BEGIN:VTIMEZONE
TZID:Europe/Vienna
X-LIC-LOCATION:Europe/Vienna
BEGIN:DAYLIGHT
DTSTART:20250330T030000
TZOFFSETFROM:+0100
TZOFFSETTO:+0200
TZNAME:CEST
END:DAYLIGHT
END:VTIMEZONE
END:VCALENDAR