BEGIN:VCALENDAR
VERSION:2.0
PRODID:-//wp-events-plugin.com//6.4.7.3//EN
TZID:Europe/Vienna
X-WR-TIMEZONE:Europe/Vienna
BEGIN:VEVENT
UID:2596@teamcalendar.eu
DTSTART;TZID=Europe/Vienna:20250701T190000
DTEND;TZID=Europe/Vienna:20250701T210000
DTSTAMP:20250602T201351Z
URL:https://teamcalendar.eu/events/german-tour-muenchen/
SUMMARY:München\, German Tour - München
DESCRIPTION:Business Opportunity Meeting - München\nEntdecken Sie das Pote
 nzial von Network Marketing und erfahren Sie mehr über die Chancen einer 
 Zusammenarbeit mit der Firma Eqology\, dem Experten für hochwertige Omega
 -3-Fettsäure Produkte aus dem arktischen Meer. \, https://teamcalendar.eu
 /events/german-tour-muenchen/ical/
CATEGORIES:Geschäftspräsentation
LOCATION:Mercure Hotel München / Süd Messe\, Karl-Marx-Ring 87\, München
 \, 81735\, Deutschland
GEO:48.102423;11.659747
X-APPLE-STRUCTURED-LOCATION;VALUE=URI;X-ADDRESS=Karl-Marx-Ring 87\, Münche
 n\, 81735\, Deutschland;X-APPLE-RADIUS=100;X-TITLE=Mercure Hotel München 
 / Süd Messe:geo:48.102423,11.659747
END:VEVENT
BEGIN:VTIMEZONE
TZID:Europe/Vienna
X-LIC-LOCATION:Europe/Vienna
BEGIN:DAYLIGHT
DTSTART:20250330T030000
TZOFFSETFROM:+0100
TZOFFSETTO:+0200
TZNAME:CEST
END:DAYLIGHT
END:VTIMEZONE
END:VCALENDAR