BEGIN:VCALENDAR
VERSION:2.0
PRODID:-//wp-events-plugin.com//6.4.7.3//EN
TZID:Europe/Vienna
X-WR-TIMEZONE:Europe/Vienna
BEGIN:VEVENT
UID:2599@teamcalendar.eu
DTSTART;TZID=Europe/Vienna:20250704T190000
DTEND;TZID=Europe/Vienna:20250704T210000
DTSTAMP:20250602T201602Z
URL:https://teamcalendar.eu/events/german-tour-koeln/
SUMMARY:Köln\, German Tour - Köln
DESCRIPTION:Business Opportunity Meeting - Köln\nEntdecken Sie das Potenzi
 al von Network Marketing und erfahren Sie mehr über die Chancen einer Zus
 ammenarbeit mit der Firma Eqology\, dem Experten für hochwertige Omega-3-
 Fettsäure Produkte aus dem arktischen Meer.\n\, https://teamcalendar.eu/e
 vents/german-tour-koeln/ical/
CATEGORIES:Geschäftspräsentation
LOCATION:Hotel Mondial am Dom Cologne\, Kurt-Hackenberg Platz 1 \, Köln\, 
 50667\, Deutschland
GEO:50.940113;6.960742
X-APPLE-STRUCTURED-LOCATION;VALUE=URI;X-ADDRESS=Kurt-Hackenberg Platz 1 \, 
 Köln\, 50667\, Deutschland;X-APPLE-RADIUS=100;X-TITLE=Hotel Mondial am Do
 m Cologne:geo:50.940113,6.960742
END:VEVENT
BEGIN:VTIMEZONE
TZID:Europe/Vienna
X-LIC-LOCATION:Europe/Vienna
BEGIN:DAYLIGHT
DTSTART:20250330T030000
TZOFFSETFROM:+0100
TZOFFSETTO:+0200
TZNAME:CEST
END:DAYLIGHT
END:VTIMEZONE
END:VCALENDAR