BEGIN:VCALENDAR
VERSION:2.0
PRODID:-//wp-events-plugin.com//6.4.7.3//EN
TZID:Europe/Vienna
X-WR-TIMEZONE:Europe/Vienna
BEGIN:VEVENT
UID:2598@teamcalendar.eu
DTSTART;TZID=Europe/Vienna:20250703T190000
DTEND;TZID=Europe/Vienna:20250703T210000
DTSTAMP:20250602T201509Z
URL:https://teamcalendar.eu/events/german-tour-frankfurt-am-main/
SUMMARY:Frankfurt am Main \, German Tour - Frankfurt am Main
DESCRIPTION:Business Opportunity Meeting - Frankfurt am Main \nEntdecken Si
 e das Potenzial von Network Marketing und erfahren Sie mehr über die Chan
 cen einer Zusammenarbeit mit der Firma Eqology\, dem Experten für hochwer
 tige Omega-3-Fettsäure Produkte aus dem arktischen Meer.\n\, https://team
 calendar.eu/events/german-tour-frankfurt-am-main/ical/
CATEGORIES:Geschäftspräsentation
LOCATION:Mainhaus City Hotel\, Lange Str. 26\, Frankfurt am Main \, 60311\,
  Deutschland
GEO:50.113515;8.693728
X-APPLE-STRUCTURED-LOCATION;VALUE=URI;X-ADDRESS=Lange Str. 26\, Frankfurt a
 m Main \, 60311\, Deutschland;X-APPLE-RADIUS=100;X-TITLE=Mainhaus City Hot
 el:geo:50.113515,8.693728
END:VEVENT
BEGIN:VTIMEZONE
TZID:Europe/Vienna
X-LIC-LOCATION:Europe/Vienna
BEGIN:DAYLIGHT
DTSTART:20250330T030000
TZOFFSETFROM:+0100
TZOFFSETTO:+0200
TZNAME:CEST
END:DAYLIGHT
END:VTIMEZONE
END:VCALENDAR