BEGIN:VCALENDAR
VERSION:2.0
PRODID:-//wp-events-plugin.com//6.4.7.3//EN
TZID:Europe/Vienna
X-WR-TIMEZONE:Europe/Vienna
BEGIN:VEVENT
UID:2783@teamcalendar.eu
DTSTART;TZID=Europe/Vienna:20260319T190000
DTEND;TZID=Europe/Vienna:20260319T210000
DTSTAMP:20260209T103354Z
URL:https://teamcalendar.eu/events/german-tour-berlin-2/
SUMMARY:Berlin\, German Tour - BERLIN
DESCRIPTION:Entdecken Sie bei diesem Business Opportunity Meeting das Poten
 zial von Network Marketing und erfahren Sie mehr über die Chancen einer Z
 usammenarbeit mit der Firma Eqology\, dem Experten für hochwertige Omega-
 3-Fettsäure Produkte aus dem arktischen Meer.\, https://teamcalendar.eu/e
 vents/german-tour-berlin-2/ical/
ATTACH;FMTTYPE=image/jpeg:https://teamcalendar.eu/wp-content/uploads/2026/
 02/Bild_2026-02-02_125003509.png
CATEGORIES:Geschäftspräsentation
LOCATION:Mercure Berlin Tempelhof\, Hermannstraße 214-216\, Berlin\, 12049
 \, Deutschland
GEO:52.478554;13.426169
X-APPLE-STRUCTURED-LOCATION;VALUE=URI;X-ADDRESS=Hermannstraße 214-216\, Be
 rlin\, 12049\, Deutschland;X-APPLE-RADIUS=100;X-TITLE=Mercure Berlin Tempe
 lhof:geo:52.478554,13.426169
END:VEVENT
BEGIN:VTIMEZONE
TZID:Europe/Vienna
X-LIC-LOCATION:Europe/Vienna
BEGIN:STANDARD
DTSTART:20251026T020000
TZOFFSETFROM:+0200
TZOFFSETTO:+0100
TZNAME:CET
END:STANDARD
END:VTIMEZONE
END:VCALENDAR