BEGIN:VCALENDAR
VERSION:2.0
PRODID:-//wp-events-plugin.com//6.4.7.3//EN
TZID:Europe/Vienna
X-WR-TIMEZONE:Europe/Vienna
BEGIN:VEVENT
UID:2366@teamcalendar.eu
DTSTART;TZID=Europe/Vienna:20250227T190000
DTEND;TZID=Europe/Vienna:20250227T210000
DTSTAMP:20250210T210412Z
URL:https://teamcalendar.eu/events/ganzheitlich-frau-gesund-durch-alle-leb
 ensphasen/
SUMMARY:\, GANZHEITLICH FRAU - GESUND DURCH ALLE LEBENSPHASEN
DESCRIPTION:Herzliche Einladung zum Frauengesundheitskongress!\n\nEinem exk
 lusivem Online-Event\, das sich den besonderen Herausforderungen und Bedü
 rfnissen von Frauen widmet.\n\nIn zwei spannenden Stunden erwarten euch he
 rausragende Expertinnen\, die euch wertvolles Wissen und praxisnahe Einbli
 cke in verschiedene Bereiche der Frauengesundheit vermitteln.\, https://te
 amcalendar.eu/events/ganzheitlich-frau-gesund-durch-alle-lebensphasen/ical
 /
CATEGORIES:Produktvortrag
LOCATION:https://us02web.zoom.us/j/84966621677?pwd=7kU5nj9i0CGiX79XMVZvGAMG
 S6vaxT.1
END:VEVENT
BEGIN:VTIMEZONE
TZID:Europe/Vienna
X-LIC-LOCATION:Europe/Vienna
BEGIN:STANDARD
DTSTART:20241027T020000
TZOFFSETFROM:+0200
TZOFFSETTO:+0100
TZNAME:CET
END:STANDARD
END:VTIMEZONE
END:VCALENDAR