BEGIN:VCALENDAR
VERSION:2.0
PRODID:-//wp-events-plugin.com//6.4.7.3//EN
TZID:Europe/Vienna
X-WR-TIMEZONE:Europe/Vienna
BEGIN:VEVENT
UID:2208@teamcalendar.eu
DTSTART;TZID=Europe/Vienna:20241111T213000
DTEND;TZID=Europe/Vienna:20241111T220500
DTSTAMP:20241111T151055Z
URL:https://teamcalendar.eu/events/focus-call-english-15/
SUMMARY:\, Focus Call English
DESCRIPTION:Are you ready to take your network marketing skills to the next
  level? Do you want to master the art of focus and strategic planning to c
 onquer the English-speaking market? Join us for an extraordinary online ev
 ent that promises to be both inspirational and transformative!\n\nTime: \n
 8:30 pm GMT/UK-time\n21:30 Central European Time\, https://teamcalendar.eu
 /events/focus-call-english-15/ical/
ATTACH;FMTTYPE=image/jpeg:https://teamcalendar.eu/wp-content/uploads/2024/
 09/Bildschirmfoto-2024-11-08-um-19.36.54-1.png
CATEGORIES:Teamtraining
LOCATION:https://zoom.us/j/4448876668
END:VEVENT
BEGIN:VTIMEZONE
TZID:Europe/Vienna
X-LIC-LOCATION:Europe/Vienna
BEGIN:STANDARD
DTSTART:20241027T020000
TZOFFSETFROM:+0200
TZOFFSETTO:+0100
TZNAME:CET
END:STANDARD
END:VTIMEZONE
END:VCALENDAR