BEGIN:VCALENDAR
VERSION:2.0
PRODID:-//wp-events-plugin.com//6.4.7.3//EN
TZID:Europe/Vienna
X-WR-TIMEZONE:Europe/Vienna
BEGIN:VEVENT
UID:2567@teamcalendar.eu
DTSTART;TZID=Europe/Vienna:20250621T100000
DTEND;TZID=Europe/Vienna:20250621T110000
DTSTAMP:20250520T063928Z
URL:https://teamcalendar.eu/events/everyone-needs-omega-3-product-presenta
 tion-eqology/
SUMMARY:London\, "EVERYONE NEEDS OMEGA-3"\, Product Presentation- EQOLOGY
DESCRIPTION:This presentations helps you to discover and understand why Ome
 ga-3 is essential for your health\, your heart\, brain\, mood\, cells and 
 overall well-being. It’s an essential nutrient we can hardly get enough 
 out of our daily diet. Discover how easy – and delicious – it can be t
 o nourish your body daily with what it truly needs. Learn what matters whe
 n choosing the right Omega-3 supplement.\, https://teamcalendar.eu/events/
 everyone-needs-omega-3-product-presentation-eqology/ical/
ATTACH;FMTTYPE=image/jpeg:https://teamcalendar.eu/wp-content/uploads/2025/
 01/everyone-needs-o3.jpg
CATEGORIES:Produktvortrag
LOCATION:Hallam Conference Centre\, 44 Hallam Street\, London\, W1W 6JJ\, V
 ereinigtes Königreich
GEO:51.520743;-0.143535
X-APPLE-STRUCTURED-LOCATION;VALUE=URI;X-ADDRESS=44 Hallam Street\, London\,
  W1W 6JJ\, Vereinigtes Königreich;X-APPLE-RADIUS=100;X-TITLE=Hallam Confe
 rence Centre:geo:51.520743,-0.143535
END:VEVENT
BEGIN:VTIMEZONE
TZID:Europe/Vienna
X-LIC-LOCATION:Europe/Vienna
BEGIN:DAYLIGHT
DTSTART:20250330T030000
TZOFFSETFROM:+0100
TZOFFSETTO:+0200
TZNAME:CEST
END:DAYLIGHT
END:VTIMEZONE
END:VCALENDAR