BEGIN:VCALENDAR
VERSION:2.0
PRODID:-//wp-events-plugin.com//6.4.7.3//EN
TZID:Europe/Vienna
X-WR-TIMEZONE:Europe/Vienna
BEGIN:VEVENT
UID:2841@teamcalendar.eu
DTSTART;TZID=Europe/Vienna;VALUE=DATE:20261023
DTEND;TZID=Europe/Vienna;VALUE=DATE:20261026
DTSTAMP:20260407T142519Z
URL:https://teamcalendar.eu/events/eqology-european-convention-2026-kopenh
 agen/
SUMMARY:København\, Eqology European Convention 2026 Kopenhagen
DESCRIPTION:Die Eqology European Convention 2026 findet in Kopenhagen statt
 . Geballte Informationen\, Motivation und die Möglichkeit zum Austausch w
 arten auf dich. Sei dabei\, lass dich inspirieren\, motivieren\, erlange S
 icherheit für dein Geschäft und die Eqology Produkte!\n\nFreitag\, 23.10
 . 17:00-19:00 President+ Training\nSamstag\, 24.10. 10:00-18:00\nSonntag\,
  25.10. 10:00-14:00\n\nTickets in deinem Eqology Onlineshop!\n\, https://t
 eamcalendar.eu/events/eqology-european-convention-2026-kopenhagen/ical/
ATTACH;FMTTYPE=image/jpeg:https://teamcalendar.eu/wp-content/uploads/2026/
 04/Convention-2026-scaled.jpg
CATEGORIES:Sonstige
LOCATION:Bella Center Copenhagen\, Center Blvd. 5\, København\, 2300\, Dä
 nemark
GEO:55.637841;12.578754
X-APPLE-STRUCTURED-LOCATION;VALUE=URI;X-ADDRESS=Center Blvd. 5\, København
 \, 2300\, Dänemark;X-APPLE-RADIUS=100;X-TITLE=Bella Center Copenhagen:geo
 :55.637841,12.578754
END:VEVENT
BEGIN:VTIMEZONE
TZID:Europe/Vienna
X-LIC-LOCATION:Europe/Vienna
BEGIN:DAYLIGHT
DTSTART:20260329T030000
TZOFFSETFROM:+0100
TZOFFSETTO:+0200
TZNAME:CEST
END:DAYLIGHT
BEGIN:STANDARD
DTSTART:20261025T020000
TZOFFSETFROM:+0200
TZOFFSETTO:+0100
TZNAME:CET
END:STANDARD
END:VTIMEZONE
END:VCALENDAR