BEGIN:VCALENDAR
VERSION:2.0
PRODID:-//wp-events-plugin.com//6.4.7.3//EN
TZID:Europe/Vienna
X-WR-TIMEZONE:Europe/Vienna
BEGIN:VEVENT
UID:2025@teamcalendar.eu
DTSTART;TZID=Europe/Vienna:20241025T170000
DTEND;TZID=Europe/Vienna:20241027T160000
DTSTAMP:20241014T182543Z
URL:https://teamcalendar.eu/events/eqology-european-convention-2024-muench
 en/
SUMMARY:München\, Eqology European Convention 2024 München
DESCRIPTION:Die Eqology European Convention 2024 findet in München statt. 
 2\,5 Tage geballte Informationen\, Motivation und die Möglichkeit zum Aus
 tausch warten auf dich. Sei dabei\, lass dich inspirieren\, motivieren\, e
 rlange Sicherheit für dein Geschäft und die Eqology Produkte! \n\nFreita
 g\, 25.10. 17:00-19:00 President+ Training \nSamstag\, 26.10. 10:00-18:00\
 nSamstag\, 26.10. 20:30 Welcome Drink und Standing Dinner und Oktoberfest-
 Party (Dresscode: Oktoberfest - gerne im Dirndl und Lederhosen\, aber kein
  Muss)\nSonntag\, 27.10. 10:00-14:00\n\nDie Veranstaltung ist ausverkauft.
  Resttickets eventuell noch über den Facebook Chat bzw. über die Upline 
 erhältlich. \, https://teamcalendar.eu/events/eqology-european-convention
 -2024-muenchen/ical/
CATEGORIES:Sonstige
LOCATION:Paulaner am Nockberg\, Hochstraße 77\, München\, Bayern\, 81541\
 , Deutschland
GEO:48.121447;11.582216
X-APPLE-STRUCTURED-LOCATION;VALUE=URI;X-ADDRESS=Hochstraße 77\, München\,
  Bayern\, 81541\, Deutschland;X-APPLE-RADIUS=100;X-TITLE=Paulaner am Nockb
 erg:geo:48.121447,11.582216
END:VEVENT
BEGIN:VTIMEZONE
TZID:Europe/Vienna
X-LIC-LOCATION:Europe/Vienna
BEGIN:DAYLIGHT
DTSTART:20240331T030000
TZOFFSETFROM:+0100
TZOFFSETTO:+0200
TZNAME:CEST
END:DAYLIGHT
BEGIN:STANDARD
DTSTART:20241027T020000
TZOFFSETFROM:+0200
TZOFFSETTO:+0100
TZNAME:CET
END:STANDARD
END:VTIMEZONE
END:VCALENDAR