BEGIN:VCALENDAR
VERSION:2.0
PRODID:-//wp-events-plugin.com//6.4.7.3//EN
TZID:Europe/Vienna
X-WR-TIMEZONE:Europe/Vienna
BEGIN:VEVENT
UID:2026@teamcalendar.eu
DTSTART;TZID=Europe/Vienna:20241206T160000
DTEND;TZID=Europe/Vienna:20241208T140000
DTSTAMP:20240513T122048Z
URL:https://teamcalendar.eu/events/eqology-bootcamp-alesund-2024/
SUMMARY:Alesund\, Eqology Bootcamp Alesund 2024
DESCRIPTION:Beim Eqology Bootcamp Alesund 2024 besuchst du nicht nur Pharma
  Marine\, die Firma\, die unsere tollen Omega-3 Fettsäure Produkte vorste
 llt\, es gibt auch intensive Schulungen rund ums Produkt und das Geschäft
 . Diese Reise ist ein einmaliges Erlebnis für alle Eqology Business Partn
 er.\n\nBeachte die Qualifikationskriterien im Back-Office (bei Business Pa
 rtner Materials).\n	3x den Titel President zwischen Nov 2023 und Okt 2024\
 n	Titel President im Okt 2024\n\, https://teamcalendar.eu/events/eqology-b
 ootcamp-alesund-2024/ical/
CATEGORIES:Sonstige
LOCATION:Alesund\, Alesund\, Alesund\, Norwegen
GEO:62.472228;6.149482
X-APPLE-STRUCTURED-LOCATION;VALUE=URI;X-ADDRESS=Alesund\, Alesund\, Norwege
 n;X-APPLE-RADIUS=100;X-TITLE=Alesund:geo:62.472228,6.149482
END:VEVENT
BEGIN:VTIMEZONE
TZID:Europe/Vienna
X-LIC-LOCATION:Europe/Vienna
BEGIN:STANDARD
DTSTART:20241027T020000
TZOFFSETFROM:+0200
TZOFFSETTO:+0100
TZNAME:CET
END:STANDARD
END:VTIMEZONE
END:VCALENDAR