BEGIN:VCALENDAR
VERSION:2.0
PRODID:-//wp-events-plugin.com//6.4.7.3//EN
TZID:Europe/Vienna
X-WR-TIMEZONE:Europe/Vienna
BEGIN:VEVENT
UID:2266@teamcalendar.eu
DTSTART;TZID=Europe/Vienna:20241213T183000
DTEND;TZID=Europe/Vienna:20241213T193000
DTSTAMP:20241122T173503Z
URL:https://teamcalendar.eu/events/die-frau-im-mittelpunkt/
SUMMARY:Graz/Raaba\, Die Frau im Mittelpunkt.
DESCRIPTION:Wir laden Sie herzlich zu einem inspirierenden Vortrag mit Dr. 
 Irene Heschl-Koller ein\, in dem die vielschichtigen Facetten der Frauenge
 sundheit beleuchtet werden.\n\n* Kinderwunsch und Schwangerschaft\n* Sexua
 lität und Partnerschaft\n* Wechseljahre und PMS\n* Endometriose und ander
 e Herausforderungen\n\nDabei steht die Frau mit ihren individuellen Bedür
 fnissen und Lebensphasen im Mittelpunkt. Doch auch Männer sind herzlich w
 illkommen\, um wertvolle Einblicke zu gewinnen\, die Partnerschaft und Ver
 ständnis stärken können.\, https://teamcalendar.eu/events/die-frau-im-m
 ittelpunkt/ical/
ATTACH;FMTTYPE=image/jpeg:https://teamcalendar.eu/wp-content/uploads/2024/
 11/de591960-c28b-473d-aa82-faccd8ecade9.jpg
CATEGORIES:Produktvortrag
LOCATION:Technopark Raaba Konferenzraum "NEBUKATNEZAR"\, Dietrich Keller St
 raße 24\, Graz/Raaba\, Steiermark\, 8074\, Österreich
GEO:47.028034;15.486889
X-APPLE-STRUCTURED-LOCATION;VALUE=URI;X-ADDRESS=Dietrich Keller Straße 24\
 , Graz/Raaba\, Steiermark\, 8074\, Österreich;X-APPLE-RADIUS=100;X-TITLE=
 Technopark Raaba Konferenzraum \"NEBUKATNEZAR\":geo:47.028034,15.486889
END:VEVENT
BEGIN:VTIMEZONE
TZID:Europe/Vienna
X-LIC-LOCATION:Europe/Vienna
BEGIN:STANDARD
DTSTART:20241027T020000
TZOFFSETFROM:+0200
TZOFFSETTO:+0100
TZNAME:CET
END:STANDARD
END:VTIMEZONE
END:VCALENDAR