BEGIN:VCALENDAR
VERSION:2.0
PRODID:-//wp-events-plugin.com//6.4.7.3//EN
TZID:Europe/Vienna
X-WR-TIMEZONE:Europe/Vienna
BEGIN:VEVENT
UID:2361@teamcalendar.eu
DTSTART;TZID=Europe/Vienna:20250322T180000
DTEND;TZID=Europe/Vienna:20250322T200000
DTSTAMP:20250204T165754Z
URL:https://teamcalendar.eu/events/der-omega3-effekt-aus-sicht-der-physiot
 herapie/
SUMMARY:Pasching\, DER OMEGA3 EFFEKT AUS SICHT DER PHYSIOTHERAPIE
DESCRIPTION:Omega-3-Fettsäuren spielen eine entscheidende Rolle für die G
 esundheit von Muskeln\, Gelenken und dem gesamten Bewegungsapparat. In die
 sem Vortrag erfahren Sie von der erfahrenen Physiotherapeutin Christine H
 äfele\, wie diese essenziellen Fettsäuren Entzündungen reduzieren\, die
  Regeneration unterstützen und zur Schmerzreduktion beitragen können –
  basierend auf wissenschaftlichen Erkenntnissen und physiotherapeutischer 
 Praxis. Lassen Sie sich inspirieren\, wie gezielte Ernährung Ihre Therapi
 e und Beweglichkeit nachhaltig verbessern kann!\, https://teamcalendar.eu/
 events/der-omega3-effekt-aus-sicht-der-physiotherapie/ical/
CATEGORIES:Health Event,Produktvortrag
LOCATION:TIL IM Langholzfeld\, Adalbert-Stifter-Straße 31 \, Pasching\, Ö
 sterreich
GEO:48.243519;14.238948
X-APPLE-STRUCTURED-LOCATION;VALUE=URI;X-ADDRESS=Adalbert-Stifter-Straße 31
  \, Pasching\, Österreich;X-APPLE-RADIUS=100;X-TITLE=TIL IM Langholzfeld:
 geo:48.243519,14.238948
END:VEVENT
BEGIN:VTIMEZONE
TZID:Europe/Vienna
X-LIC-LOCATION:Europe/Vienna
BEGIN:STANDARD
DTSTART:20241027T020000
TZOFFSETFROM:+0200
TZOFFSETTO:+0100
TZNAME:CET
END:STANDARD
END:VTIMEZONE
END:VCALENDAR