BEGIN:VCALENDAR
VERSION:2.0
PRODID:-//wp-events-plugin.com//6.4.7.3//EN
TZID:Europe/Vienna
X-WR-TIMEZONE:Europe/Vienna
BEGIN:VEVENT
UID:2557@teamcalendar.eu
DTSTART;TZID=Europe/Vienna:20250509T170000
DTEND;TZID=Europe/Vienna:20250509T213000
DTSTAMP:20250502T101452Z
URL:https://teamcalendar.eu/events/cellebration-der-abend-der-in-dir-wirkt
 /
SUMMARY:Bad Aibling\, CELLebration – Der Abend\, der in dir wirkt
DESCRIPTION:17:00 Uhr bis 18:30 Uhr\n\nGanzheitliche Gesundheitsimpulse\n\n
 Kundenvortrag\nErfahre\, wie du deine Gesundheit von innen heraus stärken
 \, deine Energie steigern und dein Wohlbefinden nachhaltig unterstützen k
 annst.\n\nPause von 18:30 bis 19:30 Uhr\nEs gibt die Möglichkeit\, im Bie
 rgarten zu essen.\n\n19:30 Uhr bis 21:00 Uhr\n\nWachstumsmarkt Gesundheit\
 n\nVorstellung Geschäftsmöglichkeit\nGesundheit neu gedacht – und als 
 Business gelebt.\nErfahre\, wie du mit einem zeitgemäßen Konzept Wirkung
  erzielst und deine Zukunft aktiv gestaltest.\n\nWährend des Abends steht
  Wasser zur freien Verfügung.\nEinladende Business Partner beteiligen sic
 h anteilig an der Raummiete von 120 EUR.\, https://teamcalendar.eu/events/
 cellebration-der-abend-der-in-dir-wirkt/ical/
CATEGORIES:Geschäftspräsentation,Health Event
LOCATION:Schmelmer Hof Hotel &amp\; Resort\, Schwimmbadstr. 15\, Bad Aiblin
 g\, Bayern\, 83043\, Deutschland
GEO:47.857905;12.032472
X-APPLE-STRUCTURED-LOCATION;VALUE=URI;X-ADDRESS=Schwimmbadstr. 15\, Bad Aib
 ling\, Bayern\, 83043\, Deutschland;X-APPLE-RADIUS=100;X-TITLE=Schmelmer H
 of Hotel & Resort:geo:47.857905,12.032472
END:VEVENT
BEGIN:VTIMEZONE
TZID:Europe/Vienna
X-LIC-LOCATION:Europe/Vienna
BEGIN:DAYLIGHT
DTSTART:20250330T030000
TZOFFSETFROM:+0100
TZOFFSETTO:+0200
TZNAME:CEST
END:DAYLIGHT
END:VTIMEZONE
END:VCALENDAR