BEGIN:VCALENDAR
VERSION:2.0
PRODID:-//wp-events-plugin.com//6.4.7.3//EN
TZID:Europe/Vienna
X-WR-TIMEZONE:Europe/Vienna
BEGIN:VEVENT
UID:2384@teamcalendar.eu
DTSTART;TZID=Europe/Vienna:20250407T190000
DTEND;TZID=Europe/Vienna:20250407T210000
DTSTAMP:20250301T102340Z
URL:https://teamcalendar.eu/events/business-opportunity-meeting-wien-erken
 nen-sie-die-geschaeftsmoeglichkeit-mit-eqology/
SUMMARY:Wien\, Business Opportunity Meeting WIEN – Erkennen Sie die Gesch
 äftsmöglichkeit mit Eqology
DESCRIPTION:Entdecken Sie das Potenzial von Network Marketing und erfahren 
 Sie mehr über die Chancen einer Zusammenarbeit mit der Firma Eqology\, de
 m Experten für hochwertige Omega-3-Fettsäure Produkte aus dem arktischen
  Meer.\n\n\, https://teamcalendar.eu/events/business-opportunity-meeting-w
 ien-erkennen-sie-die-geschaeftsmoeglichkeit-mit-eqology/ical/
CATEGORIES:Geschäftspräsentation
LOCATION:novum Wiedner Hauptstraße\, Wiedner Hauptstraße 146-148\, Wien\,
  Wien\, 1050\, Österreich
GEO:48.182968;16.358897
X-APPLE-STRUCTURED-LOCATION;VALUE=URI;X-ADDRESS=Wiedner Hauptstraße 146-14
 8\, Wien\, Wien\, 1050\, Österreich;X-APPLE-RADIUS=100;X-TITLE=novum Wied
 ner Hauptstraße:geo:48.182968,16.358897
END:VEVENT
BEGIN:VTIMEZONE
TZID:Europe/Vienna
X-LIC-LOCATION:Europe/Vienna
BEGIN:DAYLIGHT
DTSTART:20250330T030000
TZOFFSETFROM:+0100
TZOFFSETTO:+0200
TZNAME:CEST
END:DAYLIGHT
END:VTIMEZONE
END:VCALENDAR