BEGIN:VCALENDAR
VERSION:2.0
PRODID:-//wp-events-plugin.com//6.4.7.3//EN
TZID:Europe/Vienna
X-WR-TIMEZONE:Europe/Vienna
BEGIN:VEVENT
UID:2222@teamcalendar.eu
DTSTART;TZID=Europe/Vienna:20241114T160000
DTEND;TZID=Europe/Vienna:20241114T210000
DTSTAMP:20241013T191324Z
URL:https://teamcalendar.eu/events/business-opportunity-meeting-und-busine
 ss-partner-training-duesseldorf/
SUMMARY: Düsseldorf\, \, Business Opportunity Meeting und Business Partner
  Training Düsseldorf
DESCRIPTION:Entdecke das Potenzial von Network Marketing und erfahren mehr 
 über die Chancen einer Zusammenarbeit mit der Firma Eqology\, dem Experte
 n für hochwertige Omega-3-Fettsäure Produkte aus dem arktischen Meer. Vo
 r dem Business Opportunity Meeting findet zusätzlich für bestehende Busi
 ness Partner von 16-18 Uhr ein Business Partner Training statt.\nWeitere I
 nfos und Reservierung: https://www.momentum4health.eu/bom-dus\, https://te
 amcalendar.eu/events/business-opportunity-meeting-und-business-partner-tra
 ining-duesseldorf/ical/
CATEGORIES:Geschäftspräsentation,Regionales Event,Teamtraining
LOCATION:Schloss Garath\, Garather Schlossallee 19\,  Düsseldorf\, \, 4059
 5\, Deutschland
GEO:51.139852;6.908926
X-APPLE-STRUCTURED-LOCATION;VALUE=URI;X-ADDRESS=Garather Schlossallee 19\, 
  Düsseldorf\, \, 40595\, Deutschland;X-APPLE-RADIUS=100;X-TITLE=Schloss G
 arath:geo:51.139852,6.908926
END:VEVENT
BEGIN:VTIMEZONE
TZID:Europe/Vienna
X-LIC-LOCATION:Europe/Vienna
BEGIN:STANDARD
DTSTART:20241027T020000
TZOFFSETFROM:+0200
TZOFFSETTO:+0100
TZNAME:CET
END:STANDARD
END:VTIMEZONE
END:VCALENDAR