BEGIN:VCALENDAR
VERSION:2.0
PRODID:-//wp-events-plugin.com//6.4.7.3//EN
TZID:Europe/Vienna
X-WR-TIMEZONE:Europe/Vienna
BEGIN:VEVENT
UID:2404@teamcalendar.eu
DTSTART;TZID=Europe/Vienna:20250414T160000
DTEND;TZID=Europe/Vienna:20250414T210000
DTSTAMP:20250307T071824Z
URL:https://teamcalendar.eu/events/business-opportunity-meeting-und-busine
 ss-partner-training-duesseldorf-6/
SUMMARY: Düsseldorf\, \, Business Opportunity Meeting und Business Partner
  Training Düsseldorf
DESCRIPTION:Entdecke das Potenzial von Network Marketing und erfahren mehr 
 über die Chancen einer Zusammenarbeit mit der Firma Eqology\, dem Experte
 n für hochwertige Omega-3-Fettsäure Produkte aus dem arktischen Meer. Vo
 r dem Business Opportunity Meeting\, welches von 19-21 Uhr stattfindet\, f
 indet für bestehende BPs von 16-18 Uhr ein Business Partner Training stat
 t. Deine Gesundheit und dein Erfolg liegen uns am Herzen – entdecke die 
 spannenden Perspektiven mit Eqology!\, https://teamcalendar.eu/events/busi
 ness-opportunity-meeting-und-business-partner-training-duesseldorf-6/ical/
ATTACH;FMTTYPE=image/jpeg:https://teamcalendar.eu/wp-content/uploads/2025/
 01/BOM-BPT-DUS_Duesseldorf-neutral.png
CATEGORIES:Geschäftspräsentation,Regionales Event,Teamtraining
LOCATION:Schloss Garath\, Garather Schlossallee 19\,  Düsseldorf\, \, 4059
 5\, Deutschland
GEO:51.139852;6.908926
X-APPLE-STRUCTURED-LOCATION;VALUE=URI;X-ADDRESS=Garather Schlossallee 19\, 
  Düsseldorf\, \, 40595\, Deutschland;X-APPLE-RADIUS=100;X-TITLE=Schloss G
 arath:geo:51.139852,6.908926
END:VEVENT
BEGIN:VTIMEZONE
TZID:Europe/Vienna
X-LIC-LOCATION:Europe/Vienna
BEGIN:DAYLIGHT
DTSTART:20250330T030000
TZOFFSETFROM:+0100
TZOFFSETTO:+0200
TZNAME:CEST
END:DAYLIGHT
END:VTIMEZONE
END:VCALENDAR