BEGIN:VCALENDAR
VERSION:2.0
PRODID:-//wp-events-plugin.com//6.4.7.3//EN
TZID:Europe/Vienna
X-WR-TIMEZONE:Europe/Vienna
BEGIN:VEVENT
UID:2550@teamcalendar.eu
DTSTART;TZID=Europe/Vienna:20250520T190000
DTEND;TZID=Europe/Vienna:20250522T210000
DTSTAMP:20250415T175008Z
URL:https://teamcalendar.eu/events/business-opportunity-meeting-tour-20-bi
 s-22-mai-erkennen-sie-die-geschaeftsmoeglichkeit-mit-eqology/
SUMMARY:\, Business Opportunity Meeting Tour 20. bis 22. Mai – Erkennen S
 ie die Geschäftsmöglichkeit mit Eqology
DESCRIPTION:Entdecken Sie das Potenzial von Network Marketing und erfahren 
 Sie mehr über die Chancen einer Zusammenarbeit mit der Firma Eqology\, de
 m Experten für hochwertige Omega-3-Fettsäure Produkte aus dem arktischen
  Meer.\n\n\, https://teamcalendar.eu/events/business-opportunity-meeting-t
 our-20-bis-22-mai-erkennen-sie-die-geschaeftsmoeglichkeit-mit-eqology/ical
 /
CATEGORIES:Geschäftspräsentation
END:VEVENT
BEGIN:VTIMEZONE
TZID:Europe/Vienna
X-LIC-LOCATION:Europe/Vienna
BEGIN:DAYLIGHT
DTSTART:20250330T030000
TZOFFSETFROM:+0100
TZOFFSETTO:+0200
TZNAME:CEST
END:DAYLIGHT
END:VTIMEZONE
END:VCALENDAR