BEGIN:VCALENDAR
VERSION:2.0
PRODID:-//wp-events-plugin.com//6.4.7.3//EN
TZID:Europe/Vienna
X-WR-TIMEZONE:Europe/Vienna
BEGIN:VEVENT
UID:2416@teamcalendar.eu
DTSTART;TZID=Europe/Vienna:20250403T190000
DTEND;TZID=Europe/Vienna:20250403T203000
DTSTAMP:20250325T170734Z
URL:https://teamcalendar.eu/events/business-opportunity-meeting-salzburg-e
 rkennen-sie-die-geschaeftsmoeglichkeit-mit-eqology/
SUMMARY:Salzburg\, Business Opportunity Meeting Salzburg – Erkennen Sie d
 ie Geschäftsmöglichkeit mit Eqology
DESCRIPTION:Entdecke die Chancen im Network Marketing mit Eqology und gesta
 lte deine Zukunft selbst! Erfahre\, wie du mit hochwertigen Omega-3-Produk
 ten aus dem arktischen Meer nicht nur deine Gesundheit optimierst\, sonder
 n dir auch ein erfolgreiches Business aufbaust. Profitiere von einem stark
 en Team\, innovativen Produkten und einer nachhaltigen Einkommensquelle. D
 eine Gesundheit und dein Erfolg liegen uns am Herzen – entdecke die span
 nenden Perspektiven mit Eqology!\, https://teamcalendar.eu/events/business
 -opportunity-meeting-salzburg-erkennen-sie-die-geschaeftsmoeglichkeit-mit-
 eqology/ical/
ATTACH;FMTTYPE=image/jpeg:https://teamcalendar.eu/wp-content/uploads/2023/
 09/Team-Training4.jpg
CATEGORIES:Geschäftspräsentation
LOCATION:Hotel Heffterhof\, Maria-Cebotari-Straße 1-7\, Salzburg\, 5020\, 
 Österreich
GEO:47.801556;13.075641
X-APPLE-STRUCTURED-LOCATION;VALUE=URI;X-ADDRESS=Maria-Cebotari-Straße 1-7\
 , Salzburg\, 5020\, Österreich;X-APPLE-RADIUS=100;X-TITLE=Hotel Heffterho
 f:geo:47.801556,13.075641
END:VEVENT
BEGIN:VTIMEZONE
TZID:Europe/Vienna
X-LIC-LOCATION:Europe/Vienna
BEGIN:DAYLIGHT
DTSTART:20250330T030000
TZOFFSETFROM:+0100
TZOFFSETTO:+0200
TZNAME:CEST
END:DAYLIGHT
END:VTIMEZONE
END:VCALENDAR