BEGIN:VCALENDAR
VERSION:2.0
PRODID:-//wp-events-plugin.com//6.4.7.3//EN
TZID:Europe/Vienna
X-WR-TIMEZONE:Europe/Vienna
BEGIN:VEVENT
UID:2356@teamcalendar.eu
DTSTART;TZID=Europe/Vienna:20250326T190000
DTEND;TZID=Europe/Vienna:20250326T210000
DTSTAMP:20250131T154838Z
URL:https://teamcalendar.eu/events/business-opportunity-meeting-ravensburg
 /
SUMMARY:88213 Ravensburg\, Business Opportunity Meeting – Lerne die Gesch
 äftsmöglichkeit mit EQOLOGY kennen
DESCRIPTION:Entdecke die Chancen im Network Marketing mit Eqology und gesta
 lte deine Zukunft selbst!\n\nErfahre\, wie du mit hochwertigen Omega-3-Pro
 dukten aus dem arktischen Meer nicht nur deine Gesundheit optimierst\, son
 dern dir auch ein erfolgreiches Business aufbaust.\n\nProfitiere von einem
  starken Team\, innovativen Produkten und einer nachhaltigen Einkommensque
 lle.\n\nDeine Gesundheit und dein Erfolg liegen uns am Herzen – entdecke
  die spannenden Perspektiven mit Eqology! \n\, https://teamcalendar.eu/eve
 nts/business-opportunity-meeting-ravensburg/ical/
CATEGORIES:Geschäftspräsentation,Produktvortrag
LOCATION:Fanfarenheim Oberzell\, Schulstraße 17\, 88213 Ravensburg\, Deuts
 chland
GEO:47.750195;9.568945
X-APPLE-STRUCTURED-LOCATION;VALUE=URI;X-ADDRESS=Schulstraße 17\, 88213 Rav
 ensburg\, Deutschland;X-APPLE-RADIUS=100;X-TITLE=Fanfarenheim Oberzell:geo
 :47.750195,9.568945
END:VEVENT
BEGIN:VTIMEZONE
TZID:Europe/Vienna
X-LIC-LOCATION:Europe/Vienna
BEGIN:STANDARD
DTSTART:20241027T020000
TZOFFSETFROM:+0200
TZOFFSETTO:+0100
TZNAME:CET
END:STANDARD
END:VTIMEZONE
END:VCALENDAR