BEGIN:VCALENDAR
VERSION:2.0
PRODID:-//wp-events-plugin.com//6.4.7.3//EN
TZID:Europe/Vienna
X-WR-TIMEZONE:Europe/Vienna
BEGIN:VEVENT
UID:2566@teamcalendar.eu
DTSTART;TZID=Europe/Vienna:20250621T110000
DTEND;TZID=Europe/Vienna:20250621T120000
DTSTAMP:20250512T181049Z
URL:https://teamcalendar.eu/events/business-opportunity-meeting-london-eqo
 logy-independent-business-partner/
SUMMARY:London\, Business Opportunity Meeting London – Eqology Independen
 t Business Partner
DESCRIPTION:Discover the potential of network marketing and learn more abou
 t the opportunities of a cooperation with Eqology\, the expert in high-qua
 lity Omega-3 fatty acid products from the Arctic Ocean. At Eqology Indepen
 dent Business Partner Opportunity Meeting you’ll discover how Eqology’
 s system empowers everyday people to achieve financial freedom while bring
 ing health into our society.\n\nOur ticket-model for this event is simple:
  Purchase 3 tickets\, 1 for yourself and bring 2 guests. This approach kic
 k-starts your network\, helping you share this incredible opportunity righ
 t away\, https://teamcalendar.eu/events/business-opportunity-meeting-londo
 n-eqology-independent-business-partner/ical/
ATTACH;FMTTYPE=image/jpeg:https://teamcalendar.eu/wp-content/uploads/2024/
 04/Kopie-von-Der-Ursprung-von-fast-allen-Erkrankungen-und-Beschwerden-7-sc
 aled.jpg
CATEGORIES:Geschäftspräsentation
LOCATION:Hallam Conference Centre\, 44 Hallam Street\, London\, W1W 6JJ\, V
 ereinigtes Königreich
GEO:51.520743;-0.143535
X-APPLE-STRUCTURED-LOCATION;VALUE=URI;X-ADDRESS=44 Hallam Street\, London\,
  W1W 6JJ\, Vereinigtes Königreich;X-APPLE-RADIUS=100;X-TITLE=Hallam Confe
 rence Centre:geo:51.520743,-0.143535
END:VEVENT
BEGIN:VTIMEZONE
TZID:Europe/Vienna
X-LIC-LOCATION:Europe/Vienna
BEGIN:DAYLIGHT
DTSTART:20250330T030000
TZOFFSETFROM:+0100
TZOFFSETTO:+0200
TZNAME:CEST
END:DAYLIGHT
END:VTIMEZONE
END:VCALENDAR