BEGIN:VCALENDAR
VERSION:2.0
PRODID:-//wp-events-plugin.com//6.4.7.3//EN
TZID:Europe/Vienna
X-WR-TIMEZONE:Europe/Vienna
BEGIN:VEVENT
UID:1992@teamcalendar.eu
DTSTART;TZID=Europe/Vienna:20241021T190000
DTEND;TZID=Europe/Vienna:20241021T210000
DTSTAMP:20241015T165659Z
URL:https://teamcalendar.eu/events/business-opportunity-meeting-lerne-die-
 geschaeftsmoeglichkeit-mit-eqology-kennen-17/
SUMMARY:88213 Ravensburg\, Business Opportunity Meeting – Lerne die Gesch
 äftsmöglichkeit mit EQOLOGY kennen
DESCRIPTION:Entdecke das Potenzial von Network Marketing und erfahre mehr 
 über die Chancen einer Zusammenarbeit mit der Firma Eqology\, dem Experte
 n für hochwertige Omega-3-Fettsäure Produkte aus dem arktischen Meer.\, 
 https://teamcalendar.eu/events/business-opportunity-meeting-lerne-die-gesc
 haeftsmoeglichkeit-mit-eqology-kennen-17/ical/
CATEGORIES:Geschäftspräsentation,Produktvortrag
LOCATION:Fanfarenheim Oberzell\, Schulstraße 17\, 88213 Ravensburg\, Deuts
 chland
GEO:47.750195;9.568945
X-APPLE-STRUCTURED-LOCATION;VALUE=URI;X-ADDRESS=Schulstraße 17\, 88213 Rav
 ensburg\, Deutschland;X-APPLE-RADIUS=100;X-TITLE=Fanfarenheim Oberzell:geo
 :47.750195,9.568945
END:VEVENT
BEGIN:VTIMEZONE
TZID:Europe/Vienna
X-LIC-LOCATION:Europe/Vienna
BEGIN:DAYLIGHT
DTSTART:20240331T030000
TZOFFSETFROM:+0100
TZOFFSETTO:+0200
TZNAME:CEST
END:DAYLIGHT
END:VTIMEZONE
END:VCALENDAR