BEGIN:VCALENDAR
VERSION:2.0
PRODID:-//wp-events-plugin.com//6.4.7.3//EN
TZID:Europe/Vienna
X-WR-TIMEZONE:Europe/Vienna
BEGIN:VEVENT
UID:2359@teamcalendar.eu
DTSTART;TZID=Europe/Vienna:20250324T190000
DTEND;TZID=Europe/Vienna:20250324T203000
DTSTAMP:20250203T183848Z
URL:https://teamcalendar.eu/events/business-opportunity-meeting-klagenfurt
 -erkennen-sie-die-geschaeftsmoeglichkeit-mit-eqology/
SUMMARY:Klagenfurt\, Business Opportunity Meeting Klagenfurt – Erkennen S
 ie die Geschäftsmöglichkeit mit Eqology
DESCRIPTION:Entdecken Sie das Potenzial von Network Marketing und erfahren 
 Sie mehr über die Chancen einer Zusammenarbeit mit der Firma Eqology\, de
 m Experten für hochwertige Omega-3-Fettsäure Produkte aus dem arktischen
  Meer.\, https://teamcalendar.eu/events/business-opportunity-meeting-klage
 nfurt-erkennen-sie-die-geschaeftsmoeglichkeit-mit-eqology/ical/
ATTACH;FMTTYPE=image/jpeg:https://teamcalendar.eu/wp-content/uploads/2023/
 09/Team-Training4.jpg
CATEGORIES:Geschäftspräsentation
LOCATION:Lakeside B11\, Raum Turing\, Klagenfurt\, Kärnten\, 9020\, Öster
 reich
GEO:46.644509;14.32712
X-APPLE-STRUCTURED-LOCATION;VALUE=URI;X-ADDRESS=Raum Turing\, Klagenfurt\, 
 Kärnten\, 9020\, Österreich;X-APPLE-RADIUS=100;X-TITLE=Lakeside B11:geo:
 46.644509,14.32712
END:VEVENT
BEGIN:VTIMEZONE
TZID:Europe/Vienna
X-LIC-LOCATION:Europe/Vienna
BEGIN:STANDARD
DTSTART:20241027T020000
TZOFFSETFROM:+0200
TZOFFSETTO:+0100
TZNAME:CET
END:STANDARD
END:VTIMEZONE
END:VCALENDAR