BEGIN:VCALENDAR
VERSION:2.0
PRODID:-//wp-events-plugin.com//6.4.7.3//EN
TZID:Europe/Vienna
X-WR-TIMEZONE:Europe/Vienna
BEGIN:VEVENT
UID:2381@teamcalendar.eu
DTSTART;TZID=Europe/Vienna:20250408T190000
DTEND;TZID=Europe/Vienna:20250408T210000
DTSTAMP:20250301T095053Z
URL:https://teamcalendar.eu/events/business-opportunity-meeting-graz-erken
 nen-sie-die-geschaeftsmoeglichkeit-mit-eqology/
SUMMARY:Graz\, Business Opportunity Meeting GRAZ – Erkennen Sie die Gesch
 äftsmöglichkeit mit Eqology
DESCRIPTION:Entdecken Sie das Potenzial von Network Marketing und erfahren 
 Sie mehr über die Chancen einer Zusammenarbeit mit der Firma Eqology\, de
 m Experten für hochwertige Omega-3-Fettsäure Produkte aus dem arktischen
  Meer.\n\nHier wird eine Englisch-Deutsch-Übersetzung bereitgestellt. Bit
 te halten Sie die Kopfhörer bereit und nutzen Sie die Zoom-Anwendung auf 
 Ihrem Telefon.\, https://teamcalendar.eu/events/business-opportunity-meeti
 ng-graz-erkennen-sie-die-geschaeftsmoeglichkeit-mit-eqology/ical/
CATEGORIES:Geschäftspräsentation
LOCATION:Steiermarkhof\, Ekkehard-Hauer-Straße 33\, Graz\, Steiermark\, 80
 52 \, Österreich
GEO:47.049238;15.391016
X-APPLE-STRUCTURED-LOCATION;VALUE=URI;X-ADDRESS=Ekkehard-Hauer-Straße 33\,
  Graz\, Steiermark\, 8052 \, Österreich;X-APPLE-RADIUS=100;X-TITLE=Steier
 markhof:geo:47.049238,15.391016
END:VEVENT
BEGIN:VTIMEZONE
TZID:Europe/Vienna
X-LIC-LOCATION:Europe/Vienna
BEGIN:DAYLIGHT
DTSTART:20250330T030000
TZOFFSETFROM:+0100
TZOFFSETTO:+0200
TZNAME:CEST
END:DAYLIGHT
END:VTIMEZONE
END:VCALENDAR