BEGIN:VCALENDAR
VERSION:2.0
PRODID:-//wp-events-plugin.com//6.4.7.3//EN
TZID:Europe/Vienna
X-WR-TIMEZONE:Europe/Vienna
BEGIN:VEVENT
UID:2267@teamcalendar.eu
DTSTART;TZID=Europe/Vienna:20241213T200000
DTEND;TZID=Europe/Vienna:20241213T210000
DTSTAMP:20241122T175139Z
URL:https://teamcalendar.eu/events/business-opportunity-meeting-erkennen-s
 ie-die-geschaeftsmoeglichkeit-mit-eqology/
SUMMARY:Graz/Raaba\, Business Opportunity Meeting – Erkennen Sie die Gesc
 häftsmöglichkeit mit Eqology
DESCRIPTION:Entdecken Sie das Potenzial von Network Marketing und erfahren 
 Sie mehr über die Chancen einer Zusammenarbeit mit der Firma Eqology\, de
 m Experten für hochwertige Omega-3-Fettsäure Produkte aus dem arktischen
  Meer.\, https://teamcalendar.eu/events/business-opportunity-meeting-erken
 nen-sie-die-geschaeftsmoeglichkeit-mit-eqology/ical/
ATTACH;FMTTYPE=image/jpeg:https://teamcalendar.eu/wp-content/uploads/2024/
 04/Kopie-von-Der-Ursprung-von-fast-allen-Erkrankungen-und-Beschwerden-7-sc
 aled.jpg
CATEGORIES:Geschäftspräsentation
LOCATION:Technopark Raaba Konferenzraum "NEBUKATNEZAR"\, Dietrich Keller St
 raße 24\, Graz/Raaba\, Steiermark\, 8074\, Österreich
GEO:47.028034;15.486889
X-APPLE-STRUCTURED-LOCATION;VALUE=URI;X-ADDRESS=Dietrich Keller Straße 24\
 , Graz/Raaba\, Steiermark\, 8074\, Österreich;X-APPLE-RADIUS=100;X-TITLE=
 Technopark Raaba Konferenzraum \"NEBUKATNEZAR\":geo:47.028034,15.486889
END:VEVENT
BEGIN:VTIMEZONE
TZID:Europe/Vienna
X-LIC-LOCATION:Europe/Vienna
BEGIN:STANDARD
DTSTART:20241027T020000
TZOFFSETFROM:+0200
TZOFFSETTO:+0100
TZNAME:CET
END:STANDARD
END:VTIMEZONE
END:VCALENDAR