BEGIN:VCALENDAR
VERSION:2.0
PRODID:-//wp-events-plugin.com//6.4.7.3//EN
TZID:Europe/Vienna
X-WR-TIMEZONE:Europe/Vienna
BEGIN:VEVENT
UID:2554@teamcalendar.eu
DTSTART;TZID=Europe/Vienna:20250516T200000
DTEND;TZID=Europe/Vienna:20250516T210000
DTSTAMP:20250416T173336Z
URL:https://teamcalendar.eu/events/business-opportunity-meeting-erkennen-s
 ie-die-geschaeftsmoeglichkeit-mit-eqology-5/
SUMMARY:St. Stefan im Rosental\, Business Opportunity Meeting – Erkennen 
 Sie die Geschäftsmöglichkeit mit Eqology
DESCRIPTION:"Entdecken Sie die Chancen im Network Marketing und erfahren Si
 e\, wie Sie gemeinsam mit Eqology – dem Experten für hochwertige Omega-
 3-Produkte aus dem arktischen Meer – Ihre Zukunft gestalten können."\, 
 https://teamcalendar.eu/events/business-opportunity-meeting-erkennen-sie-d
 ie-geschaeftsmoeglichkeit-mit-eqology-5/ical/
ATTACH;FMTTYPE=image/jpeg:https://teamcalendar.eu/wp-content/uploads/2024/
 04/Kopie-von-Der-Ursprung-von-fast-allen-Erkrankungen-und-Beschwerden-7-sc
 aled.jpg
CATEGORIES:Geschäftspräsentation
LOCATION:Gemeindeamt St. Stefan im Rosental\, Feldbacherstraße 24\, St. St
 efan im Rosental\, Steiermark\, 8083\, Österreich
GEO:46.906015;15.71219
X-APPLE-STRUCTURED-LOCATION;VALUE=URI;X-ADDRESS=Feldbacherstraße 24\, St. 
 Stefan im Rosental\, Steiermark\, 8083\, Österreich;X-APPLE-RADIUS=100;X-
 TITLE=Gemeindeamt St. Stefan im Rosental:geo:46.906015,15.71219
END:VEVENT
BEGIN:VTIMEZONE
TZID:Europe/Vienna
X-LIC-LOCATION:Europe/Vienna
BEGIN:DAYLIGHT
DTSTART:20250330T030000
TZOFFSETFROM:+0100
TZOFFSETTO:+0200
TZNAME:CEST
END:DAYLIGHT
END:VTIMEZONE
END:VCALENDAR