BEGIN:VCALENDAR
VERSION:2.0
PRODID:-//wp-events-plugin.com//6.4.7.3//EN
TZID:Europe/Vienna
X-WR-TIMEZONE:Europe/Vienna
BEGIN:VEVENT
UID:2221@teamcalendar.eu
DTSTART;TZID=Europe/Vienna:20241024T190000
DTEND;TZID=Europe/Vienna:20241024T210000
DTSTAMP:20241012T152059Z
URL:https://teamcalendar.eu/events/business-opportunity-meeting-erkennen-s
 ie-die-geschaeftsmoeglichkeit-mit-eqology-44/
SUMMARY:München\, Business Opportunity Meeting – Erkennen Sie die Gesch
 äftsmöglichkeit mit Eqology
DESCRIPTION:Entdecken Sie das Potenzial von Network Marketing und erfahren 
 Sie mehr über die Chancen einer Zusammenarbeit mit der Firma Eqology\, de
 m Experten für hochwertige Omega-3-Fettsäure Produkte aus dem arktischen
  Meer.\, https://teamcalendar.eu/events/business-opportunity-meeting-erken
 nen-sie-die-geschaeftsmoeglichkeit-mit-eqology-44/ical/
ATTACH;FMTTYPE=image/jpeg:https://teamcalendar.eu/wp-content/uploads/2023/
 09/Team-Training4.jpg
CATEGORIES:Geschäftspräsentation
LOCATION:Hilton Munich City\, Rosenheimer Str. 15\, München\, Bayern\, 816
 67\, Deutschland
GEO:48.130628;11.592576
X-APPLE-STRUCTURED-LOCATION;VALUE=URI;X-ADDRESS=Rosenheimer Str. 15\, Münc
 hen\, Bayern\, 81667\, Deutschland;X-APPLE-RADIUS=100;X-TITLE=Hilton Munic
 h City:geo:48.130628,11.592576
END:VEVENT
BEGIN:VTIMEZONE
TZID:Europe/Vienna
X-LIC-LOCATION:Europe/Vienna
BEGIN:DAYLIGHT
DTSTART:20240331T030000
TZOFFSETFROM:+0100
TZOFFSETTO:+0200
TZNAME:CEST
END:DAYLIGHT
END:VTIMEZONE
END:VCALENDAR