BEGIN:VCALENDAR
VERSION:2.0
PRODID:-//wp-events-plugin.com//6.4.7.3//EN
TZID:Europe/Vienna
X-WR-TIMEZONE:Europe/Vienna
BEGIN:VEVENT
UID:2147@teamcalendar.eu
DTSTART;TZID=Europe/Vienna:20241127T190000
DTEND;TZID=Europe/Vienna:20241127T203000
DTSTAMP:20241107T122758Z
URL:https://teamcalendar.eu/events/business-opportunity-meeting-erkennen-s
 ie-die-geschaeftsmoeglichkeit-mit-eqology-41/
SUMMARY:Traunstein\, Business Opportunity Meeting – Erkennen Sie die Gesc
 häftsmöglichkeit mit Eqology
DESCRIPTION:Entdecken Sie das Potenzial von Network Marketing und erfahren 
 Sie mehr über die Chancen einer Zusammenarbeit mit der Firma Eqology\, de
 m Experten für hochwertige Omega-3-Fettsäure Produkte aus dem arktischen
  Meer.\, https://teamcalendar.eu/events/business-opportunity-meeting-erken
 nen-sie-die-geschaeftsmoeglichkeit-mit-eqology-41/ical/
ATTACH;FMTTYPE=image/jpeg:https://teamcalendar.eu/wp-content/uploads/2024/
 04/Kopie-von-Der-Ursprung-von-fast-allen-Erkrankungen-und-Beschwerden-7-sc
 aled.jpg
CATEGORIES:Geschäftspräsentation
LOCATION:Praxis für Ganzheitliche Gesundheit Traunstein\, Stadtplatz 28\, 
 Traunstein\, Bayern\, 83278\, Deutschland
GEO:47.869509;12.649787
X-APPLE-STRUCTURED-LOCATION;VALUE=URI;X-ADDRESS=Stadtplatz 28\, Traunstein\
 , Bayern\, 83278\, Deutschland;X-APPLE-RADIUS=100;X-TITLE=Praxis für Ganz
 heitliche Gesundheit Traunstein:geo:47.869509,12.649787
END:VEVENT
BEGIN:VTIMEZONE
TZID:Europe/Vienna
X-LIC-LOCATION:Europe/Vienna
BEGIN:STANDARD
DTSTART:20241027T020000
TZOFFSETFROM:+0200
TZOFFSETTO:+0100
TZNAME:CET
END:STANDARD
END:VTIMEZONE
END:VCALENDAR