BEGIN:VCALENDAR
VERSION:2.0
PRODID:-//wp-events-plugin.com//6.4.7.3//EN
TZID:Europe/Vienna
X-WR-TIMEZONE:Europe/Vienna
BEGIN:VEVENT
UID:2418@teamcalendar.eu
DTSTART;TZID=Europe/Vienna:20250330T170000
DTEND;TZID=Europe/Vienna:20250330T180000
DTSTAMP:20250329T100250Z
URL:https://teamcalendar.eu/events/business-opportunity-meeting-erkenne-di
 e-geschaeftsmoeglichkeit-mit-eqology/
SUMMARY:\, Business Opportunity Meeting - Erkenne die Geschäftsmöglichkei
 t mit EQOLOGY
DESCRIPTION:Entdecke\, wie Du Gesundheit und finanzielle Freiheit mit Eqolo
 gy verbinden kannst!\nLerne unser einzigartiges Network-Marketing-Modell u
 nd hochwertige Produkte für mehr Wohlbefinden kennen.\nErfahre\, wie Du T
 eil eines erfolgreichen Teams wirst und Deine Ziele verwirklichst.\nSei da
 bei – wir freuen uns auf Dich!\, https://teamcalendar.eu/events/business
 -opportunity-meeting-erkenne-die-geschaeftsmoeglichkeit-mit-eqology/ical/
ATTACH;FMTTYPE=image/jpeg:https://teamcalendar.eu/wp-content/uploads/2023/
 09/Team-Training4.jpg
CATEGORIES:Geschäftspräsentation
LOCATION:https://us06web.zoom.us/j/85094656606?pwd=ubzotNMjeryyEDjvehYkwXqZ
 ah932r.1
END:VEVENT
BEGIN:VTIMEZONE
TZID:Europe/Vienna
X-LIC-LOCATION:Europe/Vienna
BEGIN:DAYLIGHT
DTSTART:20250330T030000
TZOFFSETFROM:+0100
TZOFFSETTO:+0200
TZNAME:CEST
END:DAYLIGHT
END:VTIMEZONE
END:VCALENDAR