BEGIN:VCALENDAR
VERSION:2.0
PRODID:-//wp-events-plugin.com//6.4.7.3//EN
TZID:Europe/Vienna
X-WR-TIMEZONE:Europe/Vienna
BEGIN:VEVENT
UID:2547@teamcalendar.eu
DTSTART;TZID=Europe/Vienna:20250521T190000
DTEND;TZID=Europe/Vienna:20250521T210000
DTSTAMP:20250415T172622Z
URL:https://teamcalendar.eu/events/business-opportunity-meeting-dornbirn-e
 rkennen-sie-die-geschaeftsmoeglichkeit-mit-eqology/
SUMMARY:Dornbirn\, Business Opportunity Meeting DORNBIRN– Erkennen Sie di
 e Geschäftsmöglichkeit mit Eqology
DESCRIPTION:Entdecken Sie das Potenzial von Network Marketing und erfahren 
 Sie mehr über die Chancen einer Zusammenarbeit mit der Firma Eqology\, de
 m Experten für hochwertige Omega-3-Fettsäure Produkte aus dem arktischen
  Meer.\n\nHier wird eine Englisch-Deutsch-Übersetzung bereitgestellt. Bit
 te halten Sie die Kopfhörer bereit und nutzen Sie die Zoom-Anwendung auf 
 Ihrem Telefon.\, https://teamcalendar.eu/events/business-opportunity-meeti
 ng-dornbirn-erkennen-sie-die-geschaeftsmoeglichkeit-mit-eqology/ical/
CATEGORIES:Geschäftspräsentation
LOCATION:Vienna House by Wyndham\, Mozartstraße 2\, Dornbirn\, Vorarlberg\
 , 6850\, Österreich
GEO:47.413216;9.740154
X-APPLE-STRUCTURED-LOCATION;VALUE=URI;X-ADDRESS=Mozartstraße 2\, Dornbirn\
 , Vorarlberg\, 6850\, Österreich;X-APPLE-RADIUS=100;X-TITLE=Vienna House 
 by Wyndham:geo:47.413216,9.740154
END:VEVENT
BEGIN:VTIMEZONE
TZID:Europe/Vienna
X-LIC-LOCATION:Europe/Vienna
BEGIN:DAYLIGHT
DTSTART:20250330T030000
TZOFFSETFROM:+0100
TZOFFSETTO:+0200
TZNAME:CEST
END:DAYLIGHT
END:VTIMEZONE
END:VCALENDAR