BEGIN:VCALENDAR
VERSION:2.0
PRODID:-//wp-events-plugin.com//6.4.7.3//EN
TZID:Europe/Vienna
X-WR-TIMEZONE:Europe/Vienna
BEGIN:VEVENT
UID:2552@teamcalendar.eu
DTSTART;TZID=Europe/Vienna:20250522T193000
DTEND;TZID=Europe/Vienna:20250522T213000
DTSTAMP:20250416T063959Z
URL:https://teamcalendar.eu/events/business-opportunity-meeting-bozen-erke
 nnen-sie-die-geschaeftsmoeglichkeit-mit-eqology/
SUMMARY:Bozen\, Business Opportunity Meeting BOZEN– Erkennen Sie die Gesc
 häftsmöglichkeit mit Eqology
DESCRIPTION:Entdecken Sie das Potenzial von Network Marketing und erfahren 
 Sie mehr über die Chancen einer Zusammenarbeit mit der Firma Eqology\, de
 m Experten für hochwertige Omega-3-Fettsäure Produkte aus dem arktischen
  Meer.\n\nHier wird eine Englisch-Italienisch-Übersetzung bereitgestellt.
  Bitte halten Sie die Kopfhörer bereit und nutzen Sie die Zoom-Anwendung 
 auf Ihrem Telefon.\, https://teamcalendar.eu/events/business-opportunity-m
 eeting-bozen-erkennen-sie-die-geschaeftsmoeglichkeit-mit-eqology/ical/
CATEGORIES:Geschäftspräsentation
LOCATION:Parkhotel Laurin\, Via Laurin 4\, Bozen\, 39100\, Italien
GEO:46.497836;11.355943
X-APPLE-STRUCTURED-LOCATION;VALUE=URI;X-ADDRESS=Via Laurin 4\, Bozen\, 3910
 0\, Italien;X-APPLE-RADIUS=100;X-TITLE=Parkhotel Laurin:geo:46.497836,11.3
 55943
END:VEVENT
BEGIN:VTIMEZONE
TZID:Europe/Vienna
X-LIC-LOCATION:Europe/Vienna
BEGIN:DAYLIGHT
DTSTART:20250330T030000
TZOFFSETFROM:+0100
TZOFFSETTO:+0200
TZNAME:CEST
END:DAYLIGHT
END:VTIMEZONE
END:VCALENDAR