BEGIN:VCALENDAR
VERSION:2.0
PRODID:-//wp-events-plugin.com//6.4.7.3//EN
TZID:Europe/Vienna
X-WR-TIMEZONE:Europe/Vienna
BEGIN:VEVENT
UID:2236@teamcalendar.eu
DTSTART;TZID=Europe/Vienna:20241116T170000
DTEND;TZID=Europe/Vienna:20241116T190000
DTSTAMP:20241022T134905Z
URL:https://teamcalendar.eu/events/business-opportunity-meeting-bolzano/
SUMMARY:Bolzano\, EQOLOGY Health And Business Tour – Bolzano
DESCRIPTION:Entdecke das Potenzial von Network Marketing und erfahre mehr 
 über die Chancen einer Zusammenarbeit mit der Firma Eqology\, dem Experte
 n für hochwertige Omega-3-Fettsäure Produkte aus dem arktischen Meer.\, 
 https://teamcalendar.eu/events/business-opportunity-meeting-bolzano/ical/
CATEGORIES:Geschäftspräsentation
LOCATION:Four Points by Sheraton Bolzano\, Via Bruno Buozzi\, 35\, Bolzano\
 , BZ\, 39100 \, Italien
GEO:46.472015;11.324969
X-APPLE-STRUCTURED-LOCATION;VALUE=URI;X-ADDRESS=Via Bruno Buozzi\, 35\, Bol
 zano\, BZ\, 39100 \, Italien;X-APPLE-RADIUS=100;X-TITLE=Four Points by She
 raton Bolzano:geo:46.472015,11.324969
END:VEVENT
BEGIN:VTIMEZONE
TZID:Europe/Vienna
X-LIC-LOCATION:Europe/Vienna
BEGIN:STANDARD
DTSTART:20241027T020000
TZOFFSETFROM:+0200
TZOFFSETTO:+0100
TZNAME:CET
END:STANDARD
END:VTIMEZONE
END:VCALENDAR