BEGIN:VCALENDAR
VERSION:2.0
PRODID:-//wp-events-plugin.com//6.4.7.3//EN
TZID:Europe/Vienna
X-WR-TIMEZONE:Europe/Vienna
BEGIN:VEVENT
UID:2549@teamcalendar.eu
DTSTART;TZID=Europe/Vienna:20250519T190000
DTEND;TZID=Europe/Vienna:20250519T210000
DTSTAMP:20250415T173559Z
URL:https://teamcalendar.eu/events/business-opportunity-meeting-bern-erken
 nen-sie-die-geschaeftsmoeglichkeit-mit-eqology-3/
SUMMARY:Zürich\, Business Opportunity Meeting ZÜRICH– Erkennen Sie die 
 Geschäftsmöglichkeit mit Eqology
DESCRIPTION:Entdecken Sie das Potenzial von Network Marketing und erfahren 
 Sie mehr über die Chancen einer Zusammenarbeit mit der Firma Eqology\, de
 m Experten für hochwertige Omega-3-Fettsäure Produkte aus dem arktischen
  Meer.\n\nHier wird voraussichtlich keine Englisch-Deutsch-Übersetzung be
 reitgestellt. Änderungen vorbehalten.\, https://teamcalendar.eu/events/bu
 siness-opportunity-meeting-bern-erkennen-sie-die-geschaeftsmoeglichkeit-mi
 t-eqology-3/ical/
CATEGORIES:Geschäftspräsentation
LOCATION:Novotel City West\, Am Turbinenplatz\, Schiffbaustraße 13\, Züri
 ch\, 8005\, Schweiz
GEO:47.389555;8.517082
X-APPLE-STRUCTURED-LOCATION;VALUE=URI;X-ADDRESS=Am Turbinenplatz\, Schiffba
 ustraße 13\, Zürich\, 8005\, Schweiz;X-APPLE-RADIUS=100;X-TITLE=Novotel 
 City West:geo:47.389555,8.517082
END:VEVENT
BEGIN:VTIMEZONE
TZID:Europe/Vienna
X-LIC-LOCATION:Europe/Vienna
BEGIN:DAYLIGHT
DTSTART:20250330T030000
TZOFFSETFROM:+0100
TZOFFSETTO:+0200
TZNAME:CEST
END:DAYLIGHT
END:VTIMEZONE
END:VCALENDAR