BEGIN:VCALENDAR
VERSION:2.0
PRODID:-//wp-events-plugin.com//6.4.7.3//EN
TZID:Europe/Vienna
X-WR-TIMEZONE:Europe/Vienna
BEGIN:VEVENT
UID:2548@teamcalendar.eu
DTSTART;TZID=Europe/Vienna:20250520T190000
DTEND;TZID=Europe/Vienna:20250520T210000
DTSTAMP:20250415T173136Z
URL:https://teamcalendar.eu/events/business-opportunity-meeting-bern-erken
 nen-sie-die-geschaeftsmoeglichkeit-mit-eqology-2/
SUMMARY:Bern\, Business Opportunity Meeting BERN– Erkennen Sie die Gesch
 äftsmöglichkeit mit Eqology
DESCRIPTION:Entdecken Sie das Potenzial von Network Marketing und erfahren 
 Sie mehr über die Chancen einer Zusammenarbeit mit der Firma Eqology\, de
 m Experten für hochwertige Omega-3-Fettsäure Produkte aus dem arktischen
  Meer.\n\nHier wird eine Englisch-Deutsch-Übersetzung bereitgestellt. Bit
 te halten Sie die Kopfhörer bereit und nutzen Sie die Zoom-Anwendung auf 
 Ihrem Telefon.\, https://teamcalendar.eu/events/business-opportunity-meeti
 ng-bern-erkennen-sie-die-geschaeftsmoeglichkeit-mit-eqology-2/ical/
CATEGORIES:Geschäftspräsentation
LOCATION:Hotel Schweizerhof Hotel &amp\; Spa\, Bahnhofplatz 11\, Bern\, 300
 1\, Schweiz
GEO:46.948534;7.441202
X-APPLE-STRUCTURED-LOCATION;VALUE=URI;X-ADDRESS=Bahnhofplatz 11\, Bern\, 30
 01\, Schweiz;X-APPLE-RADIUS=100;X-TITLE=Hotel Schweizerhof Hotel & Spa:geo
 :46.948534,7.441202
END:VEVENT
BEGIN:VTIMEZONE
TZID:Europe/Vienna
X-LIC-LOCATION:Europe/Vienna
BEGIN:DAYLIGHT
DTSTART:20250330T030000
TZOFFSETFROM:+0100
TZOFFSETTO:+0200
TZNAME:CEST
END:DAYLIGHT
END:VTIMEZONE
END:VCALENDAR