BEGIN:VCALENDAR
VERSION:2.0
PRODID:-//wp-events-plugin.com//6.4.7.3//EN
TZID:Europe/Vienna
X-WR-TIMEZONE:Europe/Vienna
BEGIN:VEVENT
UID:2280@teamcalendar.eu
DTSTART;TZID=Europe/Vienna:20250313T190000
DTEND;TZID=Europe/Vienna:20250313T200000
DTSTAMP:20241223T104446Z
URL:https://teamcalendar.eu/events/boost-your-cells-gesundheitsabend-omega
 -3-und-zellgesundheit-3/
SUMMARY:Traunstein\, Boost your cells! - Gesundheitsabend Omega 3 und Zellg
 esundheit
DESCRIPTION:"Gesundheit ist nicht alles - aber ohne Gesundheit ist alles ni
 chts!" Unsere Gesundheit beginnt bei unseren Zellen. Wenn diese nicht rich
 tig funktionieren\, ist es schwierig\, auf Dauer gesund zu bleiben. Was da
 hinter steckt und welchen Einfluss Omega 3 hat\, erfährst du hier!\, http
 s://teamcalendar.eu/events/boost-your-cells-gesundheitsabend-omega-3-und-z
 ellgesundheit-3/ical/
ATTACH;FMTTYPE=image/jpeg:https://teamcalendar.eu/wp-content/uploads/2023/
 03/Achievement.jpg
CATEGORIES:Health Event,Produktvortrag
LOCATION:Praxis für Ganzheitliche Gesundheit Traunstein\, Stadtplatz 28\, 
 Traunstein\, Bayern\, 83278\, Deutschland
GEO:47.869509;12.649787
X-APPLE-STRUCTURED-LOCATION;VALUE=URI;X-ADDRESS=Stadtplatz 28\, Traunstein\
 , Bayern\, 83278\, Deutschland;X-APPLE-RADIUS=100;X-TITLE=Praxis für Ganz
 heitliche Gesundheit Traunstein:geo:47.869509,12.649787
END:VEVENT
BEGIN:VTIMEZONE
TZID:Europe/Vienna
X-LIC-LOCATION:Europe/Vienna
BEGIN:STANDARD
DTSTART:20241027T020000
TZOFFSETFROM:+0200
TZOFFSETTO:+0100
TZNAME:CET
END:STANDARD
END:VTIMEZONE
END:VCALENDAR