BEGIN:VCALENDAR
VERSION:2.0
PRODID:-//wp-events-plugin.com//6.4.7.3//EN
TZID:Europe/Vienna
X-WR-TIMEZONE:Europe/Vienna
BEGIN:VEVENT
UID:2234@teamcalendar.eu
DTSTART;TZID=Europe/Vienna:20241109T100000
DTEND;TZID=Europe/Vienna:20241109T120000
DTSTAMP:20241021T164013Z
URL:https://teamcalendar.eu/events/bom-london-november-2024/
SUMMARY:London\, Business Opportunity Meeting London - Eqology Independent 
 Business Partner
DESCRIPTION:Discover the potential of network marketing and learn more abou
 t the opportunities of a cooperation with Eqology\, the expert in high-qua
 lity Omega-3 fatty acid products from the Arctic Ocean. At Eqology Indepen
 dent Business Partner Opportunity Meeting you'll discover how Eqology's sy
 stem empowers everyday people to achieve financial freedom while bringing 
 health into our society. \n\nOur ticket-model for this event is simple:  P
 urchase 3 tickets\, 1 for yourself and bring 2 guests. This approach kick-
 starts your network\, helping you share this incredible opportunity right 
 away.\nPurchase your tickets HERE\n\n\, https://teamcalendar.eu/events/bom
 -london-november-2024/ical/
ATTACH;FMTTYPE=image/jpeg:https://teamcalendar.eu/wp-content/uploads/2023/
 06/BOM.jpg
CATEGORIES:Geschäftspräsentation
LOCATION:Hallam Conference Centre\, 44 Hallam Street\, London\, W1W 6JJ\, V
 ereinigtes Königreich
GEO:51.520743;-0.143535
X-APPLE-STRUCTURED-LOCATION;VALUE=URI;X-ADDRESS=44 Hallam Street\, London\,
  W1W 6JJ\, Vereinigtes Königreich;X-APPLE-RADIUS=100;X-TITLE=Hallam Confe
 rence Centre:geo:51.520743,-0.143535
END:VEVENT
BEGIN:VTIMEZONE
TZID:Europe/Vienna
X-LIC-LOCATION:Europe/Vienna
BEGIN:STANDARD
DTSTART:20241027T020000
TZOFFSETFROM:+0200
TZOFFSETTO:+0100
TZNAME:CET
END:STANDARD
END:VTIMEZONE
END:VCALENDAR