BEGIN:VCALENDAR
VERSION:2.0
PRODID:-//wp-events-plugin.com//6.4.7.3//EN
TZID:Europe/Vienna
X-WR-TIMEZONE:Europe/Vienna
BEGIN:VEVENT
UID:2270@teamcalendar.eu
DTSTART;TZID=Europe/Vienna:20250402T190000
DTEND;TZID=Europe/Vienna:20250402T203000
DTSTAMP:20241127T092355Z
URL:https://teamcalendar.eu/events/bom-innsbruck-april25/
SUMMARY:Innsbruck \, Business Opportunity Meeting Innsbruck – Erkennen Si
 e die Geschäftsmöglichkeit mit Eqology
DESCRIPTION:Entdecken Sie das Potenzial von Network Marketing und erfahren 
 Sie mehr über die Chancen einer Zusammenarbeit mit der Firma Eqology\, de
 m Experten für hochwertige Omega-3-Fettsäure Produkte aus dem arktischen
  Meer.\, https://teamcalendar.eu/events/bom-innsbruck-april25/ical/
ATTACH;FMTTYPE=image/jpeg:https://teamcalendar.eu/wp-content/uploads/2023/
 09/Team-Training4.jpg
CATEGORIES:Geschäftspräsentation
LOCATION:Alphotel Innsbruck\, Bernhard-Höfel-Strasse 16\, Innsbruck \, Tir
 ol\, 6020\, Österreich
X-APPLE-STRUCTURED-LOCATION;VALUE=URI;X-ADDRESS=Bernhard-Höfel-Strasse 16\
 , Innsbruck \, Tirol\, 6020\, Österreich;X-APPLE-RADIUS=100;X-TITLE=Alpho
 tel Innsbruck:geo:0,0
END:VEVENT
BEGIN:VTIMEZONE
TZID:Europe/Vienna
X-LIC-LOCATION:Europe/Vienna
BEGIN:DAYLIGHT
DTSTART:20250330T030000
TZOFFSETFROM:+0100
TZOFFSETTO:+0200
TZNAME:CEST
END:DAYLIGHT
END:VTIMEZONE
END:VCALENDAR