BEGIN:VCALENDAR
VERSION:2.0
PRODID:-//wp-events-plugin.com//6.4.7.3//EN
TZID:Europe/Vienna
X-WR-TIMEZONE:Europe/Vienna
BEGIN:VEVENT
UID:2646@teamcalendar.eu
DTSTART;TZID=Europe/Vienna:20250801T193000
DTEND;TZID=Europe/Vienna:20250801T203000
DTSTAMP:20250708T123747Z
URL:https://teamcalendar.eu/events/bom-business-opportunity-meeting-gescha
 eftspraesentation-steiermark-mit-falko-krismayr-bernd-russ-nina-gruber-rus
 s/
SUMMARY:Kindberg\, BOM Business Opportunity  Meeting - Geschäftspräsentat
 ion STEIERMARK mit Falko Krismayr\, Bernd Russ\, Nina Gruber-Russ
DESCRIPTION:18.00 Uhr Gesundheitsvortrag - Spezialthema Sport mit Falko Kri
 smayr &amp\; Bernd Russ\n19.30 Uhr Geschäftspräsentation mit Falko Krism
 ayr sowie Nina &amp\; Bernd Russ\n\nFür diese beiden Events gibt es ein K
 ombiticket welches unter folgendem Link buchbar ist:\nhttps://shop.eventje
 t.at/de/bom/event/6ed63fe7-bd06-487b-b4c3-ef7a9ecce92d\, https://teamcalen
 dar.eu/events/bom-business-opportunity-meeting-geschaeftspraesentation-ste
 iermark-mit-falko-krismayr-bernd-russ-nina-gruber-russ/ical/
CATEGORIES:Geschäftspräsentation
LOCATION:DAS-COWERK\, Schrackgasse 9\, Kindberg\, Steiermark\, 8650\, Öste
 rreich
GEO:47.502311;15.445474
X-APPLE-STRUCTURED-LOCATION;VALUE=URI;X-ADDRESS=Schrackgasse 9\, Kindberg\,
  Steiermark\, 8650\, Österreich;X-APPLE-RADIUS=100;X-TITLE=DAS-COWERK:geo
 :47.502311,15.445474
END:VEVENT
BEGIN:VTIMEZONE
TZID:Europe/Vienna
X-LIC-LOCATION:Europe/Vienna
BEGIN:DAYLIGHT
DTSTART:20250330T030000
TZOFFSETFROM:+0100
TZOFFSETTO:+0200
TZNAME:CEST
END:DAYLIGHT
END:VTIMEZONE
END:VCALENDAR