BEGIN:VCALENDAR
VERSION:2.0
PRODID:-//wp-events-plugin.com//6.4.7.3//EN
TZID:Europe/Vienna
X-WR-TIMEZONE:Europe/Vienna
BEGIN:VEVENT
UID:2227@teamcalendar.eu
DTSTART;TZID=Europe/Vienna:20241115T190000
DTEND;TZID=Europe/Vienna:20241115T210000
DTSTAMP:20241023T125656Z
URL:https://teamcalendar.eu/events/bom-business-oportunity-meeting/
SUMMARY:Hall in Tirol\, Austria Mega Tour - Innsbruck – Erkennen Sie die 
 Geschäftsmöglichkeit mit Eqology
DESCRIPTION:Entdecke das Potenzial von Network Marketing und erfahre mehr 
 über die Chancen einer Zusammenarbeit mit der Firma Eqology\, dem Experte
 n für hochwertige Omega-3-Fettsäure Produkte aus dem arktischen Meer.\, 
 https://teamcalendar.eu/events/bom-business-oportunity-meeting/ical/
CATEGORIES:Geschäftspräsentation
LOCATION:Parkhotel Hall\, Thurnfeldgasse 11\, Hall in Tirol\, Tirol\, 6060\
 , Österreich
GEO:47.284787;11.510472
X-APPLE-STRUCTURED-LOCATION;VALUE=URI;X-ADDRESS=Thurnfeldgasse 11\, Hall in
  Tirol\, Tirol\, 6060\, Österreich;X-APPLE-RADIUS=100;X-TITLE=Parkhotel H
 all:geo:47.284787,11.510472
END:VEVENT
BEGIN:VTIMEZONE
TZID:Europe/Vienna
X-LIC-LOCATION:Europe/Vienna
BEGIN:STANDARD
DTSTART:20241027T020000
TZOFFSETFROM:+0200
TZOFFSETTO:+0100
TZNAME:CET
END:STANDARD
END:VTIMEZONE
END:VCALENDAR