BEGIN:VCALENDAR
VERSION:2.0
PRODID:-//wp-events-plugin.com//6.4.7.3//EN
TZID:Europe/Vienna
X-WR-TIMEZONE:Europe/Vienna
BEGIN:VEVENT
UID:2799@teamcalendar.eu
DTSTART;TZID=Europe/Vienna:20260428T190000
DTEND;TZID=Europe/Vienna:20260428T210000
DTSTAMP:20260406T151914Z
URL:https://teamcalendar.eu/events/austria-tour-wien-erkennen-sie-die-gesc
 haeftsmoeglichkeit-mit-eqology/
SUMMARY:Wien\, Austria Tour - WIEN– Erkennen Sie die Geschäftsmöglichke
 it mit Eqology
DESCRIPTION:Entdecken Sie bei diesem Business Opportunity Meeting das Poten
 zial von Network Marketing und erfahren Sie mehr über die Chancen einer Z
 usammenarbeit mit der Firma Eqology\, dem Experten für hochwertige Omega-
 3-Fettsäure Produkte aus dem arktischen Meer.\n\nBitte HIER anmelden!\, h
 ttps://teamcalendar.eu/events/austria-tour-wien-erkennen-sie-die-geschaeft
 smoeglichkeit-mit-eqology/ical/
ATTACH;FMTTYPE=image/jpeg:https://teamcalendar.eu/wp-content/uploads/2026/
 02/wien.png
CATEGORIES:Geschäftspräsentation
LOCATION:novum Wiedner Hauptstraße\, Wiedner Hauptstraße 146-148\, Wien\,
  Wien\, 1050\, Österreich
GEO:48.182968;16.358897
X-APPLE-STRUCTURED-LOCATION;VALUE=URI;X-ADDRESS=Wiedner Hauptstraße 146-14
 8\, Wien\, Wien\, 1050\, Österreich;X-APPLE-RADIUS=100;X-TITLE=novum Wied
 ner Hauptstraße:geo:48.182968,16.358897
END:VEVENT
BEGIN:VTIMEZONE
TZID:Europe/Vienna
X-LIC-LOCATION:Europe/Vienna
BEGIN:DAYLIGHT
DTSTART:20260329T030000
TZOFFSETFROM:+0100
TZOFFSETTO:+0200
TZNAME:CEST
END:DAYLIGHT
END:VTIMEZONE
END:VCALENDAR