BEGIN:VCALENDAR
VERSION:2.0
PRODID:-//wp-events-plugin.com//6.4.7.3//EN
TZID:Europe/Vienna
X-WR-TIMEZONE:Europe/Vienna
BEGIN:VEVENT
UID:2801@teamcalendar.eu
DTSTART;TZID=Europe/Vienna:20261117T190000
DTEND;TZID=Europe/Vienna:20261117T210000
DTSTAMP:20260211T163542Z
URL:https://teamcalendar.eu/events/austria-tour-salzburg-erkennen-sie-die-
 geschaeftsmoeglichkeit-mit-eqology/
SUMMARY:Salzburg\, Austria Tour - SALZBURG – Erkennen Sie die Geschäftsm
 öglichkeit mit Eqology
DESCRIPTION:Entdecken Sie bei diesem Business Opportunity Meeting das Poten
 zial von Network Marketing und erfahren Sie mehr über die Chancen einer Z
 usammenarbeit mit der Firma Eqology\, dem Experten für hochwertige Omega-
 3-Fettsäure Produkte aus dem arktischen Meer.\n\n\, https://teamcalendar.
 eu/events/austria-tour-salzburg-erkennen-sie-die-geschaeftsmoeglichkeit-mi
 t-eqology/ical/
ATTACH;FMTTYPE=image/jpeg:https://teamcalendar.eu/wp-content/uploads/2026/
 02/Screenshot-2026-02-11-173147.png
CATEGORIES:Geschäftspräsentation
LOCATION:Hotel Heffterhof\, Maria-Cebotari-Straße 1-7\, Salzburg\, Salzbur
 g\, 5020\, Österreich
GEO:47.801556;13.075641
X-APPLE-STRUCTURED-LOCATION;VALUE=URI;X-ADDRESS=Maria-Cebotari-Straße 1-7\
 , Salzburg\, Salzburg\, 5020\, Österreich;X-APPLE-RADIUS=100;X-TITLE=Hote
 l Heffterhof:geo:47.801556,13.075641
END:VEVENT
BEGIN:VTIMEZONE
TZID:Europe/Vienna
X-LIC-LOCATION:Europe/Vienna
BEGIN:STANDARD
DTSTART:20261025T020000
TZOFFSETFROM:+0200
TZOFFSETTO:+0100
TZNAME:CET
END:STANDARD
END:VTIMEZONE
END:VCALENDAR