BEGIN:VCALENDAR
VERSION:2.0
PRODID:-//wp-events-plugin.com//6.4.7.3//EN
TZID:Europe/Vienna
X-WR-TIMEZONE:Europe/Vienna
BEGIN:VEVENT
UID:2802@teamcalendar.eu
DTSTART;TZID=Europe/Vienna:20261118T190000
DTEND;TZID=Europe/Vienna:20261118T210000
DTSTAMP:20260211T172041Z
URL:https://teamcalendar.eu/events/austria-tour-salzburg-erkennen-sie-die-
 geschaeftsmoeglichkeit-mit-eqology-2/
SUMMARY:Innsbruck \, Austria Tour - INNSBRUCK– Erkennen Sie die Geschäft
 smöglichkeit mit Eqology
DESCRIPTION:Entdecken Sie bei diesem Business Opportunity Meeting das Poten
 zial von Network Marketing und erfahren Sie mehr über die Chancen einer Z
 usammenarbeit mit der Firma Eqology\, dem Experten für hochwertige Omega-
 3-Fettsäure Produkte aus dem arktischen Meer.\n\n\, https://teamcalendar.
 eu/events/austria-tour-salzburg-erkennen-sie-die-geschaeftsmoeglichkeit-mi
 t-eqology-2/ical/
ATTACH;FMTTYPE=image/jpeg:https://teamcalendar.eu/wp-content/uploads/2026/
 02/Screenshot-2026-02-11-173147.png
CATEGORIES:Geschäftspräsentation
LOCATION:Alphotel Innsbruck\, Bernhard-Höfel-Strasse 16\, Innsbruck \, Tir
 ol\, 6020\, Österreich
X-APPLE-STRUCTURED-LOCATION;VALUE=URI;X-ADDRESS=Bernhard-Höfel-Strasse 16\
 , Innsbruck \, Tirol\, 6020\, Österreich;X-APPLE-RADIUS=100;X-TITLE=Alpho
 tel Innsbruck:geo:0,0
END:VEVENT
BEGIN:VTIMEZONE
TZID:Europe/Vienna
X-LIC-LOCATION:Europe/Vienna
BEGIN:STANDARD
DTSTART:20261025T020000
TZOFFSETFROM:+0200
TZOFFSETTO:+0100
TZNAME:CET
END:STANDARD
END:VTIMEZONE
END:VCALENDAR