BEGIN:VCALENDAR
VERSION:2.0
PRODID:-//wp-events-plugin.com//6.4.7.3//EN
TZID:Europe/Vienna
X-WR-TIMEZONE:Europe/Vienna
BEGIN:VEVENT
UID:2798@teamcalendar.eu
DTSTART;TZID=Europe/Vienna:20260429T190000
DTEND;TZID=Europe/Vienna:20260429T210000
DTSTAMP:20260406T152026Z
URL:https://teamcalendar.eu/events/austria-tour-linz-erkennen-sie-die-gesc
 haeftsmoeglichkeit-mit-eqology/
SUMMARY:Linz\, Austria Tour - LINZ– Erkennen Sie die Geschäftsmöglichke
 it mit Eqology
DESCRIPTION:Entdecken Sie bei diesem Business Opportunity Meeting das Poten
 zial von Network Marketing und erfahren Sie mehr über die Chancen einer Z
 usammenarbeit mit der Firma Eqology\, dem Experten für hochwertige Omega-
 3-Fettsäure Produkte aus dem arktischen Meer.\n\nBitte HIER anmelden!\, h
 ttps://teamcalendar.eu/events/austria-tour-linz-erkennen-sie-die-geschaeft
 smoeglichkeit-mit-eqology/ical/
ATTACH;FMTTYPE=image/jpeg:https://teamcalendar.eu/wp-content/uploads/2026/
 02/linz.png
CATEGORIES:Geschäftspräsentation
LOCATION:Park Inn by Radisson Linz\, Hessenplatz 16/18\, Linz\, Oberösterr
 eich\, 4020\, Oberösterreich\, Österreich
GEO:48.300315;14.293215
X-APPLE-STRUCTURED-LOCATION;VALUE=URI;X-ADDRESS=Hessenplatz 16/18\, Linz\, 
 Oberösterreich\, 4020\, Oberösterreich\, Österreich;X-APPLE-RADIUS=100;
 X-TITLE=Park Inn by Radisson Linz:geo:48.300315,14.293215
END:VEVENT
BEGIN:VTIMEZONE
TZID:Europe/Vienna
X-LIC-LOCATION:Europe/Vienna
BEGIN:DAYLIGHT
DTSTART:20260329T030000
TZOFFSETFROM:+0100
TZOFFSETTO:+0200
TZNAME:CEST
END:DAYLIGHT
END:VTIMEZONE
END:VCALENDAR