BEGIN:VCALENDAR
VERSION:2.0
PRODID:-//wp-events-plugin.com//6.4.7.3//EN
TZID:Europe/Vienna
X-WR-TIMEZONE:Europe/Vienna
BEGIN:VEVENT
UID:2797@teamcalendar.eu
DTSTART;TZID=Europe/Vienna:20260427T190000
DTEND;TZID=Europe/Vienna:20260427T210000
DTSTAMP:20260406T151739Z
URL:https://teamcalendar.eu/events/austria-tour-graz-erkennen-sie-die-gesc
 haeftsmoeglichkeit-mit-eqology/
SUMMARY:Graz\, Austria Tour - GRAZ – Erkennen Sie die Geschäftsmöglichk
 eit mit Eqology
DESCRIPTION:Entdecken Sie bei diesem Business Opportunity Meeting das Poten
 zial von Network Marketing und erfahren Sie mehr über die Chancen einer Z
 usammenarbeit mit der Firma Eqology\, dem Experten für hochwertige Omega-
 3-Fettsäure Produkte aus dem arktischen Meer.\n\nBitte HIER anmelden!\, h
 ttps://teamcalendar.eu/events/austria-tour-graz-erkennen-sie-die-geschaeft
 smoeglichkeit-mit-eqology/ical/
ATTACH;FMTTYPE=image/jpeg:https://teamcalendar.eu/wp-content/uploads/2026/
 02/graz.png
CATEGORIES:Geschäftspräsentation
LOCATION:NOVAPARK Flugzeughotel\, Fischeraustraße 22\, Graz\, Steiermark\,
  8051\, Steiermark\, Österreich
GEO:47.096084;15.410673
X-APPLE-STRUCTURED-LOCATION;VALUE=URI;X-ADDRESS=Fischeraustraße 22\, Graz\
 , Steiermark\, 8051\, Steiermark\, Österreich;X-APPLE-RADIUS=100;X-TITLE=
 NOVAPARK Flugzeughotel:geo:47.096084,15.410673
END:VEVENT
BEGIN:VTIMEZONE
TZID:Europe/Vienna
X-LIC-LOCATION:Europe/Vienna
BEGIN:DAYLIGHT
DTSTART:20260329T030000
TZOFFSETFROM:+0100
TZOFFSETTO:+0200
TZNAME:CEST
END:DAYLIGHT
END:VTIMEZONE
END:VCALENDAR