BEGIN:VCALENDAR
VERSION:2.0
PRODID:-//wp-events-plugin.com//6.4.7.3//EN
TZID:Europe/Vienna
X-WR-TIMEZONE:Europe/Vienna
BEGIN:VEVENT
UID:2230@teamcalendar.eu
DTSTART;TZID=Europe/Vienna:20241112T190000
DTEND;TZID=Europe/Vienna:20241112T210000
DTSTAMP:20241023T125934Z
URL:https://teamcalendar.eu/events/austria-mega-tour-vienna/
SUMMARY:Wien\, Austria Mega Tour - VIENNA – Erkennen Sie die Geschäftsm
 öglichkeit mit Eqology
DESCRIPTION:Entdecke das Potenzial von Network Marketing und erfahre mehr 
 über die Chancen einer Zusammenarbeit mit der Firma Eqology\, dem Experte
 n für hochwertige Omega-3-Fettsäure Produkte aus dem arktischen Meer.\, 
 https://teamcalendar.eu/events/austria-mega-tour-vienna/ical/
CATEGORIES:Geschäftspräsentation
LOCATION:novum Wiedner Hauptstraße\, Wiedner Hauptstraße 146-148\, Wien\,
  Wien\, 1050\, Österreich
GEO:48.182968;16.358897
X-APPLE-STRUCTURED-LOCATION;VALUE=URI;X-ADDRESS=Wiedner Hauptstraße 146-14
 8\, Wien\, Wien\, 1050\, Österreich;X-APPLE-RADIUS=100;X-TITLE=novum Wied
 ner Hauptstraße:geo:48.182968,16.358897
END:VEVENT
BEGIN:VTIMEZONE
TZID:Europe/Vienna
X-LIC-LOCATION:Europe/Vienna
BEGIN:STANDARD
DTSTART:20241027T020000
TZOFFSETFROM:+0200
TZOFFSETTO:+0100
TZNAME:CET
END:STANDARD
END:VTIMEZONE
END:VCALENDAR