BEGIN:VCALENDAR
VERSION:2.0
PRODID:-//wp-events-plugin.com//6.4.7.3//EN
TZID:Europe/Vienna
X-WR-TIMEZONE:Europe/Vienna
BEGIN:VEVENT
UID:2229@teamcalendar.eu
DTSTART;TZID=Europe/Vienna:20241111T190000
DTEND;TZID=Europe/Vienna:20241111T210000
DTSTAMP:20241023T125533Z
URL:https://teamcalendar.eu/events/austria-mega-tour-linz/
SUMMARY:Linz\, Austria Mega Tour - LINZ – Erkennen Sie die Geschäftsmög
 lichkeit mit Eqology
DESCRIPTION:Entdecke das Potenzial von Network Marketing und erfahre mehr 
 über die Chancen einer Zusammenarbeit mit der Firma Eqology\, dem Experte
 n für hochwertige Omega-3-Fettsäure Produkte aus dem arktischen Meer.\, 
 https://teamcalendar.eu/events/austria-mega-tour-linz/ical/
CATEGORIES:Geschäftspräsentation
LOCATION:CINEPLEXX LINZ\, Prinz-Eugen-Straße 22\, Linz\, Oberösterreich\,
  4020 \, Österreich
GEO:48.301297;14.32151
X-APPLE-STRUCTURED-LOCATION;VALUE=URI;X-ADDRESS=Prinz-Eugen-Straße 22\, Li
 nz\, Oberösterreich\, 4020 \, Österreich;X-APPLE-RADIUS=100;X-TITLE=CINE
 PLEXX LINZ:geo:48.301297,14.32151
END:VEVENT
BEGIN:VTIMEZONE
TZID:Europe/Vienna
X-LIC-LOCATION:Europe/Vienna
BEGIN:STANDARD
DTSTART:20241027T020000
TZOFFSETFROM:+0200
TZOFFSETTO:+0100
TZNAME:CET
END:STANDARD
END:VTIMEZONE
END:VCALENDAR